Workbook

Sheet 申請書（様式第２号）
A1: 様式第２号（第７条関係）
F3: 受付日 | H3: 受付番号
A5: 令和8年度介護保険施設等物価高騰対策事業費補助金 変更申請書及び実績報告書
G6: 令和 年 月 日
A8: 秋田県知事 あて
A9: 次のとおり、令和8年度介護保険施設等物価高騰対策事業費補助金の変更の申請と実績の報告をします。
A11: １ 変更申請者
A12: ﾌﾘｶﾞﾅ | G12: ﾌﾘｶﾞﾅ
A13: 法人の名称 | G13: 法人の代表者 | H13: 職 | I13: 氏名
A15: 法人の所在地 | D15: 〒 －
A17: 担当者氏名
A18: メールアドレス | G18: 電話番号
A20: ２ 申請（実績）額
A21: 施設等区分 | D21: 施設等の名称 | H21: 光熱水費等 | N21: 施設等区分
H22: 定員数または 事業所数 | I22: 入所系等 13,600円×定員数×1/2 通所系 9,400円×定員数 ×1/2 訪問・相談系 104,000円×事業所数×1/2
N23: 介護老人福祉施設
N24: 介護老人保健施設
N25: 介護医療院
N26: 地域密着型介護老人福祉施設入所者生活介護
N27: 短期入所生活介護
N28: 養護老人ホーム
N29: 軽費老人ホーム
N30: 認知症対応型共同生活介護
N31: 特定施設入居者生活介護
H32: 計 | I32: =SUM(I23:J31) -> 0 | N32: 地域密着型特定施設入居者生活介護
N33: 小規模多機能型居宅介護
N34: 看護小規模多機能型居宅介護
A35: ３ 振込先（預金通帳等の写しを必ず添付してください） | N35: 通所介護
A36: 金融機関名 | G36: 支店名 | N36: 地域密着型通所介護
A37: 金融機関コード ゆうちょ銀行は記号 | G37: 支店コード | I37: ゆうちょ銀行は不要 | N37: 認知症対応型通所介護
A38: 口座種別 ゆうちょ銀行は不要 | G38: 口座番号 | N38: 通所リハビリテーション
A39: 口座名義人（ｶﾀｶﾅ） | N39: 訪問介護
A40: ※必ず当該法人名義の口座を記入すること。 | N40: 訪問入浴介護
N41: 定期巡回・随時対応型訪問介護看護
A42: ４ 支給要件 ※すべてのチェックがなければ支給を受けられません。（チェック後は■） | N42: 夜間対応型訪問介護
A43: 支給を申請する施設等は下記の要件を満たしています。 | N43: 訪問看護
A44: □ | B44: 申請開始日時点で運営中である。 | N44: 訪問リハビリテーション
A45: □ | B45: 申請日時点で廃止・休止となることが明らかな施設等は含んでいない。 | N45: 居宅療養管理指導
A46: □ | B46: 秋田県暴力団排除条例（平成23年秋田県条例第29号）に規定する暴力団員と密接な関係を有する者が開設、運営 | N46: 福祉用具貸与・販売
B47: 又は出資する施設等ではない。 | N47: 居宅介護支援
...

Sheet 申請（事業実績）書一覧 
A1: 令和8年度介護保険施設等物価高騰対策事業費補助金 申請（実績報告）書一覧表
K2: 施設等の種別 | L2: 補助単価＝補助基準額×補助率（1/2）
A3: NO. | B3: 施設等の種別 | C3: 事業所・施設名 | D3: 所在地 | E3: 補助単価 （円） | F3: 定員数（人） または事業所数 （申請開始日時点) | G3: 総事業費 （円） | H3: 備 考 | K3: 介護老人福祉施設 | L3: 入所系等 （6,800円/人）
A4: 1 | G4: =E4*F4 -> 0 | K4: 介護老人保健施設
A5: 2 | G5: =E5*F5 -> 0 | K5: 介護医療院
A6: 3 | G6: =E6*F6 -> 0 | K6: 地域密着型介護老人福祉施設
A7: 4 | G7: =E7*F7 -> 0 | K7: 短期入所生活介護事業所
A8: 5 | G8: =E8*F8 -> 0 | K8: 養護老人ホーム
A9: 6 | G9: =E9*F9 -> 0 | K9: 軽費老人ホーム
A10: 7 | G10: =E10*F10 -> 0 | K10: 特定施設入居者生活介護
A11: 8 | G11: =E11*F11 -> 0 | K11: 認知症対応型共同生活介護
A12: 9 | G12: =E12*F12 -> 0 | K12: 地域密着型特定施設入居者生活介護
A13: 10 | G13: =E13*F13 -> 0 | K13: 小規模多機能型居宅介護 | L13: 複合系 （宿泊:6,800円/人、 通い:4,700円/人）
A14: 11 | G14: =E14*F14 -> 0 | K14: 看護小規模多機能型居宅介護
A15: 12 | G15: =E15*F15 -> 0 | K15: 通所介護 | L15: 通所系 （4,700円/人）
A16: 13 | G16: =E16*F16 -> 0 | K16: 地域密着型通所介護
A17: 14 | G17: =E17*F17 -> 0 | K17: 認知症対応型通所介護
A18: 15 | G18: =E18*F18 -> 0 | K18: 通所リハビリテーション
A19: 16 | G19: =E19*F19 -> 0 | K19: 訪問介護 | L19: 訪問・相談系 （52,000円/事業所）
A20: 17 | G20: =E20*F20 -> 0 | K20: 訪問入浴介護
A21: 18 | G21: =E21*F21 -> 0 | K21: 定期巡回・随時対応型訪問介護看護
A22: 19 | G22: =E22*F22 -> 0 | K22: 夜間対応型訪問介護
A23: 20 | G23: =E23*F23 -> 0 | K23: 訪問看護
A24: 21 | G24: =E24*F24 -> 0 | K24: 訪問リハビリテーション
A25: 22 | G25: =E25*F25 -> 0 | K25: 居宅療養管理指導
A26: 23 | G26: =E26*F26 -> 0 | K26: 福祉用具貸与・販売
A27: 合計 | G27: =SUM(G4:G26) -> 0 | K27: 居宅介護支援

Sheet 管理用（入力不要）
A1: 法人郵便番号 | B1: 法人住所 | C1: 法人名 | D1: 代表者職 | E1: 代表者名 | F1: 交付申請日 | G1: 国庫
A2: ='申請書（様式第２号）'!D15 -> 〒 － | B2: ='申請書（様式第２号）'!D16 -> 0 | C2: ='申請書（様式第２号）'!D13 -> 0 | D2: ='申請書（様式第２号）'!H14 -> 0 | E2: ='申請書（様式第２号）'!I14 -> 0 | F2: ='申請書（様式第２号）'!G6 -> 令和 年 月 日 | G2: ='申請（事業実績）書一覧 '!G27 -> 0

Sheet 【記載例】申請書（様式第２号）
A1: 様式第２号（第７条関係）
F3: 受付日 | H3: 受付番号
A5: 令和8年度介護保険施設等物価高騰対策事業費補助金 変更申請書及び実績報告書
G6: 令和○年○月○日
A8: 秋田県知事 あて
A9: 次のとおり、令和8年度介護保険施設等物価高騰対策事業費補助金の変更の申請と実績の報告をします。
A11: １ 変更申請者
A12: ﾌﾘｶﾞﾅ | G12: ﾌﾘｶﾞﾅ
A13: 法人の名称 | D13: 株式会社〇〇 | G13: 法人の代表者 | H13: 職 | I13: 氏名
H14: 代表取締役 | I14: 〇〇 〇〇
A15: 法人の所在地 | D15: 〒〇〇〇－〇〇〇〇
D16: 〇〇市〇〇〇〇□番地△
A17: 担当者氏名 | D17: 〇〇 〇〇
A18: メールアドレス | C18: 〇〇〇＠〇〇〇.〇〇〇〇 | G18: 電話番号 | H18: 〇〇〇－〇〇〇－〇〇〇〇
A20: ２ 申請（実績）額
A21: 施設等区分 | D21: 施設等の名称 | H21: 光熱水費等 | N21: 施設等区分
H22: 定員数または 事業所数 | I22: 入所系等 13,600円×定員数×1/2 通所系 9,400円×定員数 ×1/2 訪問・相談系 104,000円×事業所数×1/2
A23: 短期入所生活介護 | D23: ショートステイ〇〇ほか | H23: 100 | I23: 680000 | N23: 介護老人福祉施設
A24: 通所介護 | D24: デイサービスセンター〇〇 | H24: 30 | I24: 141000 | N24: 介護老人保健施設
A25: 訪問介護 | D25: ヘルパーステーション○○ | H25: 1 | I25: 52000 | N25: 介護医療院
N26: 地域密着型介護老人福祉施設入所者生活介護
N27: 短期入所生活介護
N28: 養護老人ホーム
N29: 軽費老人ホーム
N30: 認知症対応型共同生活介護
N31: 特定施設入居者生活介護
H32: 計 | I32: =SUM(I23:J31) -> 873000 | N32: 地域密着型特定施設入居者生活介護
N33: 小規模多機能型居宅介護
N34: 看護小規模多機能型居宅介護
A35: ３ 振込先（預金通帳等の写しを必ず添付してください） | N35: 通所介護
A36: 金融機関名 | G36: 支店名 | N36: 地域密着型通所介護
A37: 金融機関コード ゆうちょ銀行は記号 | G37: 支店コード | I37: ゆうちょ銀行は不要 | N37: 認知症対応型通所介護
A38: 口座種別 ゆうちょ銀行は不要 | G38: 口座番号 | N38: 通所リハビリテーション
A39: 口座名義人（ｶﾀｶﾅ） | N39: 訪問介護
A40: ※必ず当該法人名義の口座を記入すること。 | N40: 訪問入浴介護
N41: 定期巡回・随時対応型訪問介護看護
A42: ４ 支給要件 ※すべてのチェックがなければ支給を受けられません。（チェック後は■） | N42: 夜間対応型訪問介護
A43: 支給を申請する施設等は下記の要件を満たしています。 | N43: 訪問看護
A44: ■ | B44: 申請開始日時点で運営中である。 | N44: 訪問リハビリテーション
A45: ■ | B45: 申請日時点で廃止・休止となることが明らかな施設等は含んでいない。 | N45: 居宅療養管理指導
...

Sheet 【記載例】申請（事業実績）書一覧 
A1: 令和8年度介護保険施設等物価高騰対策事業費補助金 申請（実績報告）書一覧表
K2: 事業所・施設等の種別 | L2: 補助単価＝補助基準額×補助率（1/2）
A3: NO. | B3: 施設等の種別 | C3: 事業所・施設名 | D3: 所在地 | E3: 補助単価 （円） | F3: 定員数（人） または事業所数 （申請開始日時点） | G3: 総事業費 （円） | H3: 備 考 | K3: 介護老人福祉施設 | L3: 入所系等 （6,800円/人）
A4: 1 | B4: 短期入所生活介護事業所 | C4: ショートステイ〇〇 | D4: 〇〇市〇〇△番地□ | E4: 6800 | F4: 30 | G4: =E4*F4 -> 204000 | K4: 介護老人保健施設
A5: 2 | B5: 短期入所生活介護事業所 | C5: ショートステイ□□ | D5: □□市□□△番地〇 | E5: 6800 | F5: 30 | G5: =E5*F5 -> 204000 | K5: 介護医療院
A6: 3 | B6: 短期入所生活介護事業所 | C6: ショートステイ△△ | D6: △△市△△〇番地□ | E6: 6800 | F6: 40 | G6: =E6*F6 -> 272000 | K6: 地域密着型介護老人福祉施設
A7: 4 | B7: 通所介護 | C7: デイサービスセンター〇〇 | D7: 〇〇市□□△番地〇 | E7: 4700 | F7: 30 | G7: =E7*F7 -> 141000 | K7: 短期入所生活介護事業所
A8: 5 | B8: 訪問介護 | C8: ヘルパーステーション○○ | D8: 〇〇市□□△番地△ | E8: 52000 | F8: 1 | G8: =E8*F8 -> 52000 | K8: 養護老人ホーム
A9: 6 | G9: =E9*F9 -> 0 | K9: 軽費老人ホーム
A10: 7 | G10: =E10*F10 -> 0 | K10: 特定施設入居者生活介護
A11: 8 | G11: =E11*F11 -> 0 | K11: 認知症対応型共同生活介護
A12: 9 | G12: =E12*F12 -> 0 | K12: 地域密着型特定施設入居者生活介護
A13: 10 | G13: =E13*F13 -> 0 | K13: 小規模多機能型居宅介護 | L13: 複合系 （宿泊:6,800円/人、 通い:4,700円/人）
A14: 11 | G14: =E14*F14 -> 0 | K14: 看護小規模多機能型居宅介護
A15: 12 | G15: =E15*F15 -> 0 | K15: 通所介護 | L15: 通所系 （4,700円/人）
A16: 13 | G16: =E16*F16 -> 0 | K16: 地域密着型通所介護
A17: 14 | G17: =E17*F17 -> 0 | K17: 認知症対応型通所介護
A18: 15 | G18: =E18*F18 -> 0 | K18: 通所リハビリテーション
A19: 16 | G19: =E19*F19 -> 0 | K19: 訪問介護 | L19: 訪問・相談系 （52,000円/事業所）
A20: 17 | G20: =E20*F20 -> 0 | K20: 訪問入浴介護
A21: 18 | G21: =E21*F21 -> 0 | K21: 定期巡回・随時対応型訪問介護看護
A22: 19 | G22: =E22*F22 -> 0 | K22: 夜間対応型訪問介護
A23: 20 | G23: =E23*F23 -> 0 | K23: 訪問看護
A24: 21 | G24: =E24*F24 -> 0 | K24: 訪問リハビリテーション
A25: 22 | G25: =E25*F25 -> 0 | K25: 居宅療養管理指導
A26: 23 | G26: =E26*F26 -> 0 | K26: 福祉用具貸与・販売
A27: 合計 | G27: =SUM(G4:G26) -> 873000 | K27: 居宅介護支援
