Workbook

Sheet 申請書（様式第１号）４件以上　【記載例】
A1: 様式第１号（第７条関係）
F3: 受付日 | H3: 受付番号
A5: 障害者支援施設等物価高騰対策事業費補助金 支給申請書及び実績報告書
G6: 46330
A8: 秋田県知事 あて
A9: 次のとおり、障害者支援施設等物価高騰対策事業費補助金支給の申請と実績の報告をします。
A11: １ 申請書
A12: ﾌﾘｶﾞﾅ | D12: ケンチョウケアサービス（カ | G12: ﾌﾘｶﾞﾅ | H12: ダイヒョウトリシマリヤク ケンチョウ タロウ
A13: 法人の名称 | D13: 県庁ケアサービス株式会社 | G13: 法人の代表者 | H13: 職 | I13: 氏名
H14: 代表取締役 県庁 太郎
A15: 法人の所在地 | D15: 〒 011－0123
D16: 秋田県秋田市土崎港北７－２－９９
A17: 担当者氏名 | D17: 秋田 一郎
A18: メールアドレス | D18: kenchou-care@fvk.biglobe.ne.jp
A19: 電話番号 | D19: 018-860-1111
A21: ２ 申請（実績）額
A22: サービス種別 | D22: 施設等の名称 | H22: 物価高騰対策事業
H23: 定員数・ 施設数(注) | I23: 区分 | J23: 入所系 13,600円×定員数 通所系 9,400円×定員数 訪問・相談系 104,400円×施設数 | K23: ※計算用
A24: 施設入所支援 | D24: 山王ハウス 他１先 | H24: 20 | I24: =IF(A24="","",VLOOKUP(A24,リスト!$A$2:$C$29,2,FALSE)) -> 入所系 | J24: =IF(I24="",0,H24*K24) -> 272000 | K24: =IF(A24="","",VLOOKUP(A24,リスト!$A$2:$C$29,3,FALSE)) -> 13600
A27: 生活介護 | D27: 山王ハウス 他１先 | H27: 30 | I27: =IF(A27="","",VLOOKUP(A27,リスト!$A$2:$C$29,2,FALSE)) -> 通所系 | J27: =IF(I27="",0,H27*K27) -> 282000 | K27: =IF(A27="","",VLOOKUP(A27,リスト!$A$2:$C$29,3,FALSE)) -> 9400
A30: 計画相談支援 | D30: 山王ハウス | H30: 1 | I30: =IF(A30="","",VLOOKUP(A30,リスト!$A$2:$C$29,2,FALSE)) -> 訪問・相談系 | J30: =IF(I30="",0,H30*K30) -> 104000 | K30: =IF(A30="","",VLOOKUP(A30,リスト!$A$2:$C$29,3,FALSE)) -> 104000
A33: 宿泊型自立訓練 | D33: 山王ハウス | H33: 5 | I33: =IF(A33="","",VLOOKUP(A33,リスト!$A$2:$C$29,2,FALSE)) -> 入所系 | J33: =IF(I33="",0,H33*K33) -> 68000 | K33: =IF(A33="","",VLOOKUP(A33,リスト!$A$2:$C$29,3,FALSE)) -> 13600
A36: 短期入所(空床型を除く) | D36: 山王ハウス | H36: 8 | I36: =IF(A36="","",VLOOKUP(A36,リスト!$A$2:$C$29,2,FALSE)) -> 入所系 | J36: =IF(I36="",0,H36*K36) -> 108800 | K36: =IF(A36="","",VLOOKUP(A36,リスト!$A$2:$C$29,3,FALSE)) -> 13600
A39: 自立訓練（機能訓練） | D39: 山王ハウス | H39: 10 | I39: =IF(A39="","",VLOOKUP(A39,リスト!$A$2:$C$29,2,FALSE)) -> 通所系 | J39: =IF(I39="",0,H39*K39) -> 94000 | K39: =IF(A39="","",VLOOKUP(A39,リスト!$A$2:$C$29,3,FALSE)) -> 9400
A42: 自立訓練（生活訓練） | D42: 山王ハウス | H42: 5 | I42: =IF(A42="","",VLOOKUP(A42,リスト!$A$2:$C$29,2,FALSE)) -> 通所系 | J42: =IF(I42="",0,H42*K42) -> 47000 | K42: =IF(A42="","",VLOOKUP(A42,リスト!$A$2:$C$29,3,FALSE)) -> 9400
A45: 就労移行支援 | D45: 山王ハウス | H45: 8 | I45: =IF(A45="","",VLOOKUP(A45,リスト!$A$2:$C$29,2,FALSE)) -> 通所系 | J45: =IF(I45="",0,H45*K45) -> 75200 | K45: =IF(A45="","",VLOOKUP(A45,リスト!$A$2:$C$29,3,FALSE)) -> 9400
A49: サービス種別 | D49: 施設等の名称 | H49: 物価高騰対策事業
H50: 定員数・ 施設数(注) | I50: 区分 | J50: 入所系 13,600円×定員数 通所系 9,400円×定員数 訪問・相談系 104,400円×施設数 | K50: ※計算用
A51: 就労継続支援Ａ型 | D51: 山王ハウス | H51: 10 | I51: =IF(A51="","",VLOOKUP(A51,リスト!$A$2:$C$29,2,FALSE)) -> 通所系 | J51: =IF(I51="",0,H51*K51) -> 94000 | K51: =IF(A51="","",VLOOKUP(A51,リスト!$A$2:$C$29,3,FALSE)) -> 9400
A54: 就労継続支援Ｂ型 | D54: 山王ハウス | H54: 5 | I54: =IF(A54="","",VLOOKUP(A54,リスト!$A$2:$C$29,2,FALSE)) -> 通所系 | J54: =IF(I54="",0,H54*K54) -> 47000 | K54: =IF(A54="","",VLOOKUP(A54,リスト!$A$2:$C$29,3,FALSE)) -> 9400
A57: 児童発達支援 | D57: 山王ハウス | H57: 8 | I57: =IF(A57="","",VLOOKUP(A57,リスト!$A$2:$C$29,2,FALSE)) -> 通所系 | J57: =IF(I57="",0,H57*K57) -> 75200 | K57: =IF(A57="","",VLOOKUP(A57,リスト!$A$2:$C$29,3,FALSE)) -> 9400
A60: 放課後等デイサービス | D60: 山王ハウス | H60: 10 | I60: =IF(A60="","",VLOOKUP(A60,リスト!$A$2:$C$29,2,FALSE)) -> 通所系 | J60: =IF(I60="",0,H60*K60) -> 94000 | K60: =IF(A60="","",VLOOKUP(A60,リスト!$A$2:$C$29,3,FALSE)) -> 9400
I63: =IF(A63="","",VLOOKUP(A63,リスト!$A$2:$C$29,2,FALSE)) | J63: =IF(I63="",0,H63*K63) -> 0 | K63: =IF(A63="","",VLOOKUP(A63,リスト!$A$2:$C$29,3,FALSE))
I66: =IF(A66="","",VLOOKUP(A66,リスト!$A$2:$C$29,2,FALSE)) | J66: =IF(I66="",0,H66*K66) -> 0 | K66: =IF(A66="","",VLOOKUP(A66,リスト!$A$2:$C$29,3,FALSE))
I69: =IF(A69="","",VLOOKUP(A69,リスト!$A$2:$C$29,2,FALSE)) | J69: =IF(I69="",0,H69*K69) -> 0 | K69: =IF(A69="","",VLOOKUP(A69,リスト!$A$2:$C$29,3,FALSE))
I72: =IF(A72="","",VLOOKUP(A72,リスト!$A$2:$C$29,2,FALSE)) | J72: =IF(I72="",0,H72*K72) -> 0 | K72: =IF(A72="","",VLOOKUP(A72,リスト!$A$2:$C$29,3,FALSE))
I75: =IF(A75="","",VLOOKUP(A75,リスト!$A$2:$C$29,2,FALSE)) | J75: =IF(I75="",0,H75*K75) -> 0 | K75: =IF(A75="","",VLOOKUP(A75,リスト!$A$2:$C$29,3,FALSE))
I78: =IF(A78="","",VLOOKUP(A78,リスト!$A$2:$C$29,2,FALSE)) | J78: =IF(I78="",0,H78*K78) -> 0 | K78: =IF(A78="","",VLOOKUP(A78,リスト!$A$2:$C$29,3,FALSE))
G81: 基準額合計 | J81: =IFERROR(IF(J24+J27+J30+J33+J36+J39+J42+J45+J51+J54+J57+J60+J63+J66+J69+J72+J75+J78=0," ",J24+J27+J30+J33+J36+J39+J42+J45+J51+J54+J57+J60+J63+J66+J69+J72+J75+J78)," ") -> 1361200
G82: 交付申請額（補助率1/2） | J82: =IFERROR(IF(J24+J27+J30=0," ",J81/2)," ") -> 680600
...

Sheet 申請（事業実績）書一覧　【記載例】
A1: 障害者支援施設等物価高騰対策事業費補助金 申請（事業実績）書一覧表 | K1: 【 サービス種別ごとの基準額 】
K2: 物価高騰対応重点支援地方創生臨時交付金
A3: NO. | B3: 事業所・施設等 の種別 | C3: 施 設 名 | D3: 施設所在地 | E3: 補助単価 （円） | F3: 定員数（人） または事業所数 （申請開始日時点) | G3: 総事業費 （円） | H3: 備 考 | K3: 入所系 （13,600円/人） | L3: 通所系 （9,400円/人） | M3: 訪問・相談系 （104,000円/施設）
A4: 1 | B4: 施設入所支援 | C4: 山王ハウス | D4: 秋田県秋田市山王四丁目１番１５１号 | E4: =IF(B4="","",VLOOKUP(B4,リスト!$A$2:$C$29,3,FALSE)) -> 13600 | F4: 10 | G4: =IF(E4="","",E4*F4) -> 136000 | K4: 共同生活援助（日中サービス支援型） | L4: 生活介護 | M4: 居宅介護
A5: 2 | B5: 施設入所支援 | C5: 旭北ハウス | D5: 秋田県秋田市旭北錦町２番３３１号 | E5: =IF(B5="","",VLOOKUP(B5,リスト!$A$2:$C$29,3,FALSE)) -> 13600 | F5: 10 | G5: =IF(E5="","",E5*F5) -> 136000 | K5: 福祉型障害児入所施設 | L5: 自立訓練（機能訓練） | M5: 重度訪問介護
A6: 3 | B6: 生活介護 | C6: 山王ハウス | D6: 秋田県秋田市山王四丁目１番１５１号 | E6: =IF(B6="","",VLOOKUP(B6,リスト!$A$2:$C$29,3,FALSE)) -> 9400 | F6: 15 | G6: =IF(E6="","",E6*F6) -> 141000 | K6: 施設入所支援 | L6: 自立訓練（生活訓練） | M6: 同行援護
A7: 4 | B7: 生活介護 | C7: 旭北ハウス | D7: 秋田県秋田市旭北錦町２番３３１号 | E7: =IF(B7="","",VLOOKUP(B7,リスト!$A$2:$C$29,3,FALSE)) -> 9400 | F7: 15 | G7: =IF(E7="","",E7*F7) -> 141000 | K7: 宿泊型自立訓練 | L7: 就労移行支援 | M7: 行動援護
A8: 5 | B8: 計画相談支援 | C8: 山王ハウス | D8: 秋田県秋田市山王四丁目１番１５１号 | E8: =IF(B8="","",VLOOKUP(B8,リスト!$A$2:$C$29,3,FALSE)) -> 104000 | F8: 1 | G8: =IF(E8="","",E8*F8) -> 104000 | K8: 共同生活援助（介護サービス包括型） | L8: 就労継続支援Ａ型 | M8: 就労定着支援
A9: 6 | B9: 宿泊型自立訓練 | C9: 山王ハウス | D9: 秋田県秋田市山王四丁目１番１５１号 | E9: =IF(B9="","",VLOOKUP(B9,リスト!$A$2:$C$29,3,FALSE)) -> 13600 | F9: 5 | G9: =IF(E9="","",E9*F9) -> 68000 | K9: 共同生活援助（外部サービス利用型） | L9: 就労継続支援Ｂ型 | M9: 自立生活援助
A10: 7 | B10: 短期入所(空床型を除く) | C10: 山王ハウス | D10: 秋田県秋田市山王四丁目１番１５１号 | E10: =IF(B10="","",VLOOKUP(B10,リスト!$A$2:$C$29,3,FALSE)) -> 13600 | F10: 8 | G10: =IF(E10="","",E10*F10) -> 108800 | K10: 短期入所(空床型を除く) | L10: 児童発達支援 | M10: 計画相談支援
A11: 8 | B11: 自立訓練（機能訓練） | C11: 山王ハウス | D11: 秋田県秋田市山王四丁目１番１５１号 | E11: =IF(B11="","",VLOOKUP(B11,リスト!$A$2:$C$29,3,FALSE)) -> 9400 | F11: 10 | G11: =IF(E11="","",E11*F11) -> 94000 | L11: 放課後等デイサービス | M11: 地域移行支援
A12: 9 | B12: 自立訓練（生活訓練） | C12: 山王ハウス | D12: 秋田県秋田市山王四丁目１番１５１号 | E12: =IF(B12="","",VLOOKUP(B12,リスト!$A$2:$C$29,3,FALSE)) -> 9400 | F12: 5 | G12: =IF(E12="","",E12*F12) -> 47000 | L12: 就労選択支援 | M12: 地域定着支援
A13: 10 | B13: 就労移行支援 | C13: 山王ハウス | D13: 秋田県秋田市山王四丁目１番１５１号 | E13: =IF(B13="","",VLOOKUP(B13,リスト!$A$2:$C$29,3,FALSE)) -> 9400 | F13: 8 | G13: =IF(E13="","",E13*F13) -> 75200 | M13: 居宅訪問型児童発達支援
A14: 11 | B14: 就労継続支援Ａ型 | C14: 山王ハウス | D14: 秋田県秋田市山王四丁目１番１５１号 | E14: =IF(B14="","",VLOOKUP(B14,リスト!$A$2:$C$29,3,FALSE)) -> 9400 | F14: 10 | G14: =IF(E14="","",E14*F14) -> 94000 | M14: 保育所等訪問支援
A15: 12 | B15: 就労継続支援Ｂ型 | C15: 山王ハウス | D15: 秋田県秋田市山王四丁目１番１５１号 | E15: =IF(B15="","",VLOOKUP(B15,リスト!$A$2:$C$29,3,FALSE)) -> 9400 | F15: 5 | G15: =IF(E15="","",E15*F15) -> 47000 | M15: 障害児相談支援
A16: 13 | B16: 児童発達支援 | C16: 山王ハウス | D16: 秋田県秋田市山王四丁目１番１５１号 | E16: =IF(B16="","",VLOOKUP(B16,リスト!$A$2:$C$29,3,FALSE)) -> 9400 | F16: 8 | G16: =IF(E16="","",E16*F16) -> 75200
A17: 14 | B17: 放課後等デイサービス | C17: 山王ハウス | D17: 秋田県秋田市山王四丁目１番１５１号 | E17: =IF(B17="","",VLOOKUP(B17,リスト!$A$2:$C$29,3,FALSE)) -> 9400 | F17: 10 | G17: =IF(E17="","",E17*F17) -> 94000
A18: 15 | E18: =IF(B18="","",VLOOKUP(B18,リスト!$A$2:$C$29,3,FALSE)) | G18: =IF(E18="","",E18*F18)
A19: 16 | E19: =IF(B19="","",VLOOKUP(B19,リスト!$A$2:$C$29,3,FALSE)) | G19: =IF(E19="","",E19*F19)
A20: 17 | E20: =IF(B20="","",VLOOKUP(B20,リスト!$A$2:$C$29,3,FALSE)) | G20: =IF(E20="","",E20*F20)
A21: 18 | E21: =IF(B21="","",VLOOKUP(B21,リスト!$A$2:$C$29,3,FALSE)) | G21: =IF(E21="","",E21*F21)
A22: 19 | E22: =IF(B22="","",VLOOKUP(B22,リスト!$A$2:$C$29,3,FALSE)) | G22: =IF(E22="","",E22*F22)
A23: 20 | E23: =IF(B23="","",VLOOKUP(B23,リスト!$A$2:$C$29,3,FALSE)) | G23: =IF(E23="","",E23*F23)
E24: 事業費合計 | G24: =IF(G4="","",SUM(G4:G23)) -> 1361200 | H24: =IF(G24=0," ",IF('申請書（様式第１号）４件以上 【記載例】'!J81=G24,"金額合致","金額不一致")) -> 金額合致
E25: 申請額合計（補助率1/2） | G25: =IF(G24="","",G24/2) -> 680600 | H25: =IF(G25=0," ",IF('申請書（様式第１号）４件以上 【記載例】'!J82=G25,"金額合致","金額不一致")) -> 金額合致

Sheet リスト
A1: サービス種別 | B1: 区分 | C1: 基準額
A2: 共同生活援助（日中サービス支援型） | B2: 入所系 | C2: 13600
A3: 福祉型障害児入所施設 | B3: 入所系 | C3: 13600
A4: 施設入所支援 | B4: 入所系 | C4: 13600
A5: 宿泊型自立訓練 | B5: 入所系 | C5: 13600
A6: 共同生活援助（介護サービス包括型） | B6: 入所系 | C6: 13600
A7: 共同生活援助（外部サービス利用型） | B7: 入所系 | C7: 13600
A8: 短期入所(空床型を除く) | B8: 入所系 | C8: 13600
A9: 生活介護 | B9: 通所系 | C9: 9400
A10: 自立訓練（機能訓練） | B10: 通所系 | C10: 9400
A11: 自立訓練（生活訓練） | B11: 通所系 | C11: 9400
A12: 就労移行支援 | B12: 通所系 | C12: 9400
A13: 就労継続支援Ａ型 | B13: 通所系 | C13: 9400
... A29: 障害児相談支援 | B29: 訪問・相談系 | C29: 104000
