Workbook

Sheet 申請書（様式第１号）
A1: 様式第１号（第６条関係）
F3: 受付日 | H3: 受付番号
A5: 食事提供サービス継続補助金（障害福祉等サービス） 支給申請書及び実績報告書
G6: 46122
A8: 秋田県知事 あて
A9: 次のとおり、食事提供サービス継続補助金支給の申請と実績の報告をします。
A11: １ 申請書
A12: ﾌﾘｶﾞﾅ | D12: ケンチョウケアサービス（カ | G12: ﾌﾘｶﾞﾅ | H12: ダイヒョウトリシマリヤク ケンチョウ タロウ
A13: 法人の名称 | D13: 県庁ケアサービス株式会社 | G13: 法人の代表者 | H13: 職 | I13: 氏名
H14: 代表取締役 県庁 太郎
A15: 法人の所在地 | D15: 〒 011－0123
D16: 秋田県秋田市土崎港北７－２－９９
A17: 担当者氏名 | D17: 秋田 一郎
A18: メールアドレス | D18: kenchou-care@fvk.biglobe.ne.jp
A19: 電話番号 | D19: 018-860-1111
A21: ２ 申請（実績）額
A22: サービス種別 | D22: 施設等の名称 | H22: 食材料費
H23: 定員数 | I23: 区分 | J23: 入所系① 10,200円×定員数 入所系② 6,800円×定員数 通所系 3,400円×定員数 | K23: ※計算用
A24: 施設入所支援 | D24: 山王デイサービス 他２先 | H24: 30 | I24: =IF(A24="","",VLOOKUP(A24,リスト!$A$2:$C$17,2,FALSE)) -> 入所系② | J24: =IF(I24="",0,H24*K24) -> 204000 | K24: =IF(A24="","",VLOOKUP(A24,リスト!$A$2:$C$17,3,FALSE)) -> 6800
A27: 就労移行支援 | D27: 山王デイサービス 他１先 | H27: 8 | I27: =IF(A27="","",VLOOKUP(A27,リスト!$A$2:$C$17,2,FALSE)) -> 通所系 | J27: =IF(I27="",0,H27*K27) -> 27200 | K27: =IF(A27="","",VLOOKUP(A27,リスト!$A$2:$C$17,3,FALSE)) -> 3400
A30: 共同生活援助（日中サービス支援型） | D30: 山王デイサービス 他２先 | H30: 15 | I30: =IF(A30="","",VLOOKUP(A30,リスト!$A$2:$C$17,2,FALSE)) -> 入所系① | J30: =IF(I30="",0,H30*K30) -> 153000 | K30: =IF(A30="","",VLOOKUP(A30,リスト!$A$2:$C$17,3,FALSE)) -> 10200
H33: 計 | I33: =IFERROR(IF(J24+J27+J30=0," ",+J24+J27+J30)," ") -> 384200
A35: ３ 振込先（預金通帳等の写しを必ず添付してください）
A36: 金融機関名 | D36: 継続支援銀行 | G36: 支店名 | H36: 本店
A37: 金融機関コード ゆうちょ銀行は記号 | D37: 0110 | G37: 支店コード | H37: 111 | I37: ゆうちょ銀行は不要
A38: 口座種別 ゆうちょ銀行は不要 | D38: 普通預金 | G38: 口座番号 | H38: 1234567
A39: 口座名義人（ｶﾀｶﾅ） | D39: ケンチョウケアサービス（カ
A40: ※必ず当該法人名義の口座を記入すること。
A42: ４ 支給要件 ※すべてのチェックがなければ支給を受けられません。（チェック後は■）
A43: 支給を申請する施設等は下記の要件を満たしています。
A44: ■ | B44: 申請日時点で運営中である。 | K44: □
A45: ■ | B45: 秋田県暴力団排除条例（平成23年秋田県条例第29号）に規定する暴力団員と密接な関係を有する者が開設、運営 | K45: ■
B46: 又は出資する施設等ではない。
A47: ■ | B47: 補助金の支給決定後に支給要件に該当しない事実や不正等が発覚した場合は、速やかに補助金を返還する。

Sheet 申請（事業実績）書一覧
A1: 食事提供サービス継続補助金（障害福祉等サービス） 申請（事業実績）書一覧表 | K1: 【 単 価 種 別 】
K2: 物価高騰対応重点支援地方創生臨時交付金
A3: NO. | B3: 事業所・施設等 の種別 | C3: 施 設 名 | D3: 施設所在地 | E3: 補助単価 （円） | F3: 定員数（人） （R7.4.1時点） | G3: 総事業費 （円） | H3: 備 考 | K3: 入所系① （10,200円/人） | L3: 入所系② （6,800円/人） | M3: 通所系 （3,400円/人）
A4: 1 | B4: 施設入所支援 | C4: 山王デイサービス | D4: 秋田県秋田市山王四丁目１番１５１号 | E4: 6800 | F4: 10 | G4: =E4*F4 -> 68000 | K4: 共同生活援助（日中サービス支援型） | L4: 施設入所支援 | M4: 生活介護
A5: 2 | B5: 施設入所支援 | C5: 旭北デイサービス | D5: 秋田県秋田市旭北錦町２番３３１号 | E5: 6800 | F5: 10 | G5: =E5*F5 -> 68000 | K5: 福祉型障害児入所施設 | L5: 宿泊型自立訓練 | M5: 自立訓練（機能訓練）
A6: 3 | B6: 施設入所支援 | C6: 八橋デイサービス | D6: 秋田県秋田市八橋本町３番８５２号 | E6: 6800 | F6: 10 | G6: =E6*F6 -> 68000 | L6: 共同生活援助（介護サービス包括型） | M6: 自立訓練（生活訓練）
A7: 4 | B7: 就労移行支援 | C7: 山王デイサービス | D7: 秋田県秋田市山王四丁目１番１５１号 | E7: 3400 | F7: 4 | G7: =E7*F7 -> 13600 | L7: 共同生活援助（外部サービス利用型） | M7: 就労移行支援
A8: 5 | B8: 就労移行支援 | C8: 旭北デイサービス | D8: 秋田県秋田市旭北錦町２番３３１号 | E8: 3400 | F8: 4 | G8: =E8*F8 -> 13600 | L8: 短期入所(空床型を除く) | M8: 就労継続支援Ａ型
A9: 6 | B9: 共同生活援助（日中サービス支援型） | C9: 山王デイサービス | D9: 秋田県秋田市山王四丁目１番１５１号 | E9: 10200 | F9: 5 | G9: =E9*F9 -> 51000 | M9: 就労継続支援Ｂ型
A10: 7 | B10: 共同生活援助（日中サービス支援型） | C10: 旭北デイサービス | D10: 秋田県秋田市旭北錦町２番３３１号 | E10: 10200 | F10: 5 | G10: =E10*F10 -> 51000 | M10: 児童発達支援
A11: 8 | B11: 共同生活援助（日中サービス支援型） | C11: 八橋デイサービス | D11: 秋田県秋田市八橋本町３番８５２号 | E11: 10200 | F11: 5 | G11: =E11*F11 -> 51000 | M11: 放課後等デイサービス
G12: =E12*F12 -> 0 | M12: 就労選択支援
G13: =E13*F13 -> 0
G14: =E14*F14 -> 0 | K14: 事業所・施設等の種別 | L14: 補助単価
G15: =E15*F15 -> 0 | K15: 共同生活援助（日中サービス支援型） | L15: 10200
G16: =E16*F16 -> 0 | K16: 福祉型障害児入所施設 | L16: 6800
G17: =E17*F17 -> 0 | K17: 施設入所支援 | L17: 3400
G18: =E18*F18 -> 0 | K18: 宿泊型自立訓練
G19: =E19*F19 -> 0 | K19: 共同生活援助（介護サービス包括型）
G20: =E20*F20 -> 0 | K20: 共同生活援助（外部サービス利用型）
G21: =E21*F21 -> 0 | K21: 短期入所(空床型を除く)
G22: =E22*F22 -> 0 | K22: 生活介護
G23: =E23*F23 -> 0 | K23: 自立訓練（機能訓練）
A24: 合計 | G24: =SUM(G4:G23) -> 384200 | H24: =IF(G24=0," ",IF('申請書（様式第１号）'!I33=G24,"金額合致","金額不一致")) -> 金額合致 | K24: 自立訓練（生活訓練）
K25: 就労移行支援
K26: 就労継続支援Ａ型
K27: 就労継続支援Ｂ型
K28: 児童発達支援
K29: 放課後等デイサービス
K30: 就労選択支援

Sheet リスト
A1: サービス種別 | B1: 区分 | C1: 基準額
A2: 共同生活援助（日中サービス支援型） | B2: 入所系① | C2: 10200
A3: 福祉型障害児入所施設 | B3: 入所系① | C3: 10200
A4: 施設入所支援 | B4: 入所系② | C4: 6800
A5: 宿泊型自立訓練 | B5: 入所系② | C5: 6800
A6: 共同生活援助（介護サービス包括型） | B6: 入所系② | C6: 6800
A7: 共同生活援助（外部サービス利用型） | B7: 入所系② | C7: 6800
A8: 短期入所(空床型を除く) | B8: 入所系② | C8: 6800
A9: 生活介護 | B9: 通所系 | C9: 3400
A10: 自立訓練（機能訓練） | B10: 通所系 | C10: 3400
A11: 自立訓練（生活訓練） | B11: 通所系 | C11: 3400
A12: 就労移行支援 | B12: 通所系 | C12: 3400
A13: 就労継続支援Ａ型 | B13: 通所系 | C13: 3400
... A17: 就労選択支援 | B17: 通所系 | C17: 3400
