Workbook

Sheet 総括表
B1: 令和6年度 財政状況資料集
B2: 総括表（市町村）
B3: 都道府県名 | L3: 秋田県 | W3: 市町村類型 | AC3: Ⅰ－１ | AM3: 指定団体等の指定状況 | AY3: 区分 | BN3: 令和6年度(千円) | BV3: 令和5年度(千円) | CD3: 区分 | CT3: 令和6年度(千円･％) | DB3: 令和5年度(千円･％)
AY4: 歳入総額 | BN4: 25468712 | BV4: 23626213 | CD4: 実質収支比率 | CT4: 5.4 | DB4: 3.5
AM5: 財政健全化等 | AU5: × | AY5: 歳出総額 | BN5: 24793447 | BV5: 23144664 | CD5: 経常収支比率 | CT5: 97.5 | DB5: 101.8
B6: 市町村名 | L6: 仙北市 | W6: 地方交付税種地 | AC6: 1-1 | AM6: 財源超過 | AU6: × | AY6: 歳入歳出差引 | BN6: 675265 | BV6: 481549 | CD6: (※1) | CT6: 97.7 | DB6: 102.3
AM7: 首都 | AU7: × | AY7: 翌年度に繰越すべき財源 | BN7: 51735 | BV7: 79932 | CD7: 標準財政規模 | CT7: 11611568 | DB7: 11535569
AM8: 近畿 | AU8: × | AY8: 実質収支 | BN8: 623530 | BV8: 401617 | CD8: 財政力指数 | CT8: 0.27 | DB8: 0.27
B9: 人口 | L9: 令和2年国調(人) | R9: 24610 | W9: 産業構造 (※5) | AM9: 中部 | AU9: × | AY9: 単年度収支 | BN9: 221913 | BV9: -130377 | CD9: 公債費負担比率 | CT9: 14.5 | DB9: 14.6
L10: 平成27年国調(人) | R10: 27523 | AM10: 過疎 | AU10: ○ | AY10: 積立金 | BN10: 238 | BV10: 25 | CD10: 健全化判断比率
L11: 増減率 (％) | R11: -10.6 | AM11: 山振 | AU11: ○ | AY11: 繰上償還金 | BN11: 0 | BV11: 0 | CD11: 実質赤字比率 | CT11: - | DB11: -
B12: 住民基本台帳人口 (※7) | L12: 令07.01.01(人) | R12: 22859 | W12: 区分 | AC12: 令和2年国調 | AH12: 平成27年国調 | AM12: 低開発 | AU12: × | AY12: 積立金取崩し額 | BN12: 56008 | BV12: 547913 | CD12: 連結実質赤字比率 | CT12: - | DB12: -
M13: うち日本人(人) | R13: 22741 | W13: 第1次 | AC13: 1607 | AH13: 1879 | AM13: 指数表選定 | AU13: ○ | AY13: 実質単年度収支 | BN13: 166143 | BV13: -678265 | CD13: 実質公債費比率 | CT13: 8.9 | DB13: 8.6
L14: 令06.01.01(人) | R14: 23443 | AC14: 13 | AH14: 14.1 | CD14: 将来負担比率 | CT14: 75.8 | DB14: 98.8
M15: うち日本人(人) | R15: 23361 | W15: 第2次 | AC15: 3222 | AH15: 3365 | AY15: 基準財政収入額 | BN15: 2973399 | BV15: 2957120 | CD15: 資金不足比率 (※4)
L16: 増減率 (％) | R16: -2.5 | AC16: 26 | AH16: 25.2 | AY16: 基準財政需要額 | BN16: 10880410 | BV16: 10778422 | CE16: 仙北市病院事業会計 | CT16: 35.1 | DB16: 19.4
M17: うち日本人(％) | R17: -2.7 | W17: 第3次 | AC17: 7565 | AH17: 8094 | AY17: 標準税収入額等 | BN17: 3679810 | BV17: 3664407
B18: 面積 (k㎡) | L18: 1093.56 | AC18: 61 | AH18: 60.7 | AY18: 経常経費充当一般財源等 | BN18: 11498789 | BV18: 11898897
B19: 人口密度 (人/k㎡) | L19: 23 | AY19: 歳入一般財源等 | BN19: 14110758 | BV19: 14591466
B20: 世帯数 (世帯) | L20: 9252
B21: 職員の状況 (※8)
B22: 特別職等 | E22: 区分 | L22: 定数 | Q22: 1人あたり平均 給料月額(百円) | W22: 一般職員等(※6) | Z22: 区分 | AH22: 職員数 (人) | AM22: 給料月額 (百円) | AS22: 1人あたり平均 給料月額(百円) | AY22: 地方債現在高 | BN22: 20886092 | BV22: 21651423
AY23: うち公的資金 | BN23: 18279511 | BV23: 18904713
E24: 市区町村長 | L24: 1 | Q24: 8500 | Z24: 一般職員 | AH24: 338 | AM24: 1033604 | AS24: 3058 | AY24: 地方債現在高（臨時財政対策債除き） | BN24: 15917537 | BV24: 16025041
E25: 副市区町村長 | L25: 1 | Q25: 6380 | Z25: うち消防職員 | AH25: - | AM25: - | AS25: - | AY25: 債務負担行為額（支出予定額） | BN25: 1876530 | BV25: 666822
E26: 教育長 | L26: 1 | Q26: 5780 | Z26: うち技能労務職員 | AH26: 16 | AM26: 44880 | AS26: 2805 | AY26: 収益事業収入 | BN26: - | BV26: -
E27: 議会議長 | L27: 1 | Q27: 3750 | Z27: 教育公務員 | AH27: 5 | AM27: 20730 | AS27: 4146 | AY27: 土地開発基金現在高 | BN27: - | BV27: -
E28: 議会副議長 | L28: 1 | Q28: 3280 | Z28: 臨時職員 | AH28: - | AM28: - | AS28: - | AY28: 積立金 現在高 | BC28: 財政調整基金 | BN28: 1230376 | BV28: 1085311
E29: 議会議員 | L29: 14 | Q29: 3120 | Z29: 合計 | AH29: 343 | AM29: 1054334 | AS29: 3074 | BC29: 減債基金 | BN29: 203681 | BV29: 167036
W30: ラスパイレス指数 | AH30: 97.5 | BC30: その他特定目的基金 | BN30: 2913286 | BV30: 2273380
C32: 一般会計等の一覧 | U32: 事業会計の一覧 | AM32: 公営企業（法適）の一覧 | BE32: 公営企業（法非適）の一覧 | BW32: 関係する一部事務組合等一覧 | CO32: 地方公社・第三セクター等一覧
C33: 項番 | E33: 会計名 | U33: 項番 | W33: 会計名 | AM33: 項番 | AO33: 会計名 | BE33: 項番 | BG33: 会計名 | BW33: 項番 | BY33: 組合等名 | CO33: 項番 | CQ33: 団体名 | DG33: (※3)
C34: =IF(E34="","",1) -> 1 | E34: =IF('各会計、関係団体の財政状況及び健全化判断比率'!B7="","",'各会計、関係団体の財政状況及び健全化判断比率'!B7) -> 一般会計 | U34: =IF(W34="","",MAX(C34:D43)+1) -> 3 | W34: =IF('各会計、関係団体の財政状況及び健全化判断比率'!B28="","",'各会計、関係団体の財政状況及び健全化判断比率'!B28) -> 仙北市国民健康保険特別会計（事業勘定） | AM34: =IF(AO34="","",MAX(C34:D43,U34:V43)+1) -> 7 | AO34: =IF('各会計、関係団体の財政状況及び健全化判断比率'!B32="","",'各会計、関係団体の財政状況及び健全化判断比率'!B32) -> 仙北市水道事業会計 | BE34: =IF(BG34="","",MAX(C34:D43,U34:V43,AM34:AN43)+1) | BW34: =IF(BY34="","",MAX(C34:D43,U34:V43,AM34:AN43,BE34:BF43)+1) -> 11 | BY34: =IF('各会計、関係団体の財政状況及び健全化判断比率'!B68="","",'各会計、関係団体の財政状況及び健全化判断比率'!B68) -> 秋田県市町村総合事務組合（一般会計） | CO34: =IF(CQ34="","",MAX(C34:D43,U34:V43,AM34:AN43,BE34:BF43,BW34:BX43)+1) -> 18 | CQ34: =IF('各会計、関係団体の財政状況及び健全化判断比率'!BS7="","",'各会計、関係団体の財政状況及び健全化判断比率'!BS7) -> おもてなしせんぼく | DG34: =IF('各会計、関係団体の財政状況及び健全化判断比率'!BR7="","",'各会計、関係団体の財政状況及び健全化判断比率'!BR7)
C35: =IF(E35="","",C34+1) -> 2 | E35: =IF('各会計、関係団体の財政状況及び健全化判断比率'!B8="","",'各会計、関係団体の財政状況及び健全化判断比率'!B8) -> 仙北市集中管理特別会計 | U35: =IF(W35="","",U34+1) -> 4 | W35: =IF('各会計、関係団体の財政状況及び健全化判断比率'!B29="","",'各会計、関係団体の財政状況及び健全化判断比率'!B29) -> 仙北市国民健康保険特別会計（神代診療施設勘定） | AM35: =IF(AO35="","",AM34+1) -> 8 | AO35: =IF('各会計、関係団体の財政状況及び健全化判断比率'!B33="","",'各会計、関係団体の財政状況及び健全化判断比率'!B33) -> 仙北市温泉事業会計 | BE35: =IF(BG35="","",BE34+1) | BW35: =IF(BY35="","",BW34+1) -> 12 | BY35: =IF('各会計、関係団体の財政状況及び健全化判断比率'!B69="","",'各会計、関係団体の財政状況及び健全化判断比率'!B69) -> 秋田県市町村総合事務組合（交通災害事業等特別会計） | CO35: =IF(CQ35="","",CO34+1) | CQ35: =IF('各会計、関係団体の財政状況及び健全化判断比率'!BS8="","",'各会計、関係団体の財政状況及び健全化判断比率'!BS8) | DG35: =IF('各会計、関係団体の財政状況及び健全化判断比率'!BR8="","",'各会計、関係団体の財政状況及び健全化判断比率'!BR8)
C36: =IF(E36="","",C35+1) | E36: =IF('各会計、関係団体の財政状況及び健全化判断比率'!B9="","",'各会計、関係団体の財政状況及び健全化判断比率'!B9) | U36: =IF(W36="","",U35+1) -> 5 | W36: =IF('各会計、関係団体の財政状況及び健全化判断比率'!B30="","",'各会計、関係団体の財政状況及び健全化判断比率'!B30) -> 仙北市後期高齢者医療特別会計 | AM36: =IF(AO36="","",AM35+1) -> 9 | AO36: =IF('各会計、関係団体の財政状況及び健全化判断比率'!B34="","",'各会計、関係団体の財政状況及び健全化判断比率'!B34) -> 仙北市病院事業会計 | BE36: =IF(BG36="","",BE35+1) | BW36: =IF(BY36="","",BW35+1) -> 13 | BY36: =IF('各会計、関係団体の財政状況及び健全化判断比率'!B70="","",'各会計、関係団体の財政状況及び健全化判断比率'!B70) -> 秋田県市町村会館管理組合（一般会計） | CO36: =IF(CQ36="","",CO35+1) | CQ36: =IF('各会計、関係団体の財政状況及び健全化判断比率'!BS9="","",'各会計、関係団体の財政状況及び健全化判断比率'!BS9) | DG36: =IF('各会計、関係団体の財政状況及び健全化判断比率'!BR9="","",'各会計、関係団体の財政状況及び健全化判断比率'!BR9)
C37: =IF(E37="","",C36+1) | E37: =IF('各会計、関係団体の財政状況及び健全化判断比率'!B10="","",'各会計、関係団体の財政状況及び健全化判断比率'!B10) | U37: =IF(W37="","",U36+1) -> 6 | W37: =IF('各会計、関係団体の財政状況及び健全化判断比率'!B31="","",'各会計、関係団体の財政状況及び健全化判断比率'!B31) -> 仙北市介護保険特別会計（介護サービス事業） | AM37: =IF(AO37="","",AM36+1) -> 10 | AO37: =IF('各会計、関係団体の財政状況及び健全化判断比率'!B35="","",'各会計、関係団体の財政状況及び健全化判断比率'!B35) -> 仙北市下水道事業会計 | BE37: =IF(BG37="","",BE36+1) | BW37: =IF(BY37="","",BW36+1) -> 14 | BY37: =IF('各会計、関係団体の財政状況及び健全化判断比率'!B71="","",'各会計、関係団体の財政状況及び健全化判断比率'!B71) -> 秋田県後期高齢者医療広域連合（一般会計） | CO37: =IF(CQ37="","",CO36+1) | CQ37: =IF('各会計、関係団体の財政状況及び健全化判断比率'!BS10="","",'各会計、関係団体の財政状況及び健全化判断比率'!BS10) | DG37: =IF('各会計、関係団体の財政状況及び健全化判断比率'!BR10="","",'各会計、関係団体の財政状況及び健全化判断比率'!BR10)
C38: =IF(E38="","",C37+1) | E38: =IF('各会計、関係団体の財政状況及び健全化判断比率'!B11="","",'各会計、関係団体の財政状況及び健全化判断比率'!B11) | U38: =IF(W38="","",U37+1) | AM38: =IF(AO38="","",AM37+1) | BE38: =IF(BG38="","",BE37+1) | BW38: =IF(BY38="","",BW37+1) -> 15 | BY38: =IF('各会計、関係団体の財政状況及び健全化判断比率'!B72="","",'各会計、関係団体の財政状況及び健全化判断比率'!B72) -> 秋田県後期高齢者医療広域連合（後期高齢者医療特別会計） | CO38: =IF(CQ38="","",CO37+1) | CQ38: =IF('各会計、関係団体の財政状況及び健全化判断比率'!BS11="","",'各会計、関係団体の財政状況及び健全化判断比率'!BS11) | DG38: =IF('各会計、関係団体の財政状況及び健全化判断比率'!BR11="","",'各会計、関係団体の財政状況及び健全化判断比率'!BR11)
C39: =IF(E39="","",C38+1) | E39: =IF('各会計、関係団体の財政状況及び健全化判断比率'!B12="","",'各会計、関係団体の財政状況及び健全化判断比率'!B12) | U39: =IF(W39="","",U38+1) | AM39: =IF(AO39="","",AM38+1) | BE39: =IF(BG39="","",BE38+1) | BW39: =IF(BY39="","",BW38+1) -> 16 | BY39: =IF('各会計、関係団体の財政状況及び健全化判断比率'!B73="","",'各会計、関係団体の財政状況及び健全化判断比率'!B73) -> 大曲仙北広域市町村圏組合（一般会計） | CO39: =IF(CQ39="","",CO38+1) | CQ39: =IF('各会計、関係団体の財政状況及び健全化判断比率'!BS12="","",'各会計、関係団体の財政状況及び健全化判断比率'!BS12) | DG39: =IF('各会計、関係団体の財政状況及び健全化判断比率'!BR12="","",'各会計、関係団体の財政状況及び健全化判断比率'!BR12)
C40: =IF(E40="","",C39+1) | E40: =IF('各会計、関係団体の財政状況及び健全化判断比率'!B13="","",'各会計、関係団体の財政状況及び健全化判断比率'!B13) | U40: =IF(W40="","",U39+1) | AM40: =IF(AO40="","",AM39+1) | BE40: =IF(BG40="","",BE39+1) | BW40: =IF(BY40="","",BW39+1) -> 17 | BY40: =IF('各会計、関係団体の財政状況及び健全化判断比率'!B74="","",'各会計、関係団体の財政状況及び健全化判断比率'!B74) -> 大曲仙北広域市町村圏組合（介護保険特別会計） | CO40: =IF(CQ40="","",CO39+1) | CQ40: =IF('各会計、関係団体の財政状況及び健全化判断比率'!BS13="","",'各会計、関係団体の財政状況及び健全化判断比率'!BS13) | DG40: =IF('各会計、関係団体の財政状況及び健全化判断比率'!BR13="","",'各会計、関係団体の財政状況及び健全化判断比率'!BR13)
C41: =IF(E41="","",C40+1) | E41: =IF('各会計、関係団体の財政状況及び健全化判断比率'!B14="","",'各会計、関係団体の財政状況及び健全化判断比率'!B14) | U41: =IF(W41="","",U40+1) | AM41: =IF(AO41="","",AM40+1) | BE41: =IF(BG41="","",BE40+1) | BW41: =IF(BY41="","",BW40+1) | BY41: =IF('各会計、関係団体の財政状況及び健全化判断比率'!B75="","",'各会計、関係団体の財政状況及び健全化判断比率'!B75) | CO41: =IF(CQ41="","",CO40+1) | CQ41: =IF('各会計、関係団体の財政状況及び健全化判断比率'!BS14="","",'各会計、関係団体の財政状況及び健全化判断比率'!BS14) | DG41: =IF('各会計、関係団体の財政状況及び健全化判断比率'!BR14="","",'各会計、関係団体の財政状況及び健全化判断比率'!BR14)
...

Sheet 普通会計の状況
DH1: 令和6年度 | DP1: 秋田県仙北市
B2: (1) 普通会計の状況（市町村）
B3: 歳入の状況（単位 千円・％） | AP3: 地方税の状況（単位 千円・％） | CD3: 歳出の状況（単位 千円・％）
B4: 区分 | R4: 決算額 | Z4: 構成比 | AD4: 経常一般財源等 | AL4: 構成比 | AP4: 区分 | BG4: 収入済額 | BO4: 構成比 | BS4: 超過課税分 | CD4: 目的別歳出の状況（単位 千円・％）
B5: 地方税 | R5: 2684914 | Z5: 10.5 | AD5: 2684914 | AL5: 22.8 | AP5: 普通税 | BG5: 2575856 | BO5: 95.9 | BS5: - | CD5: 区分 | CR5: 決算額 (A) | CZ5: 構成比 | DD5: (A)のうち普通建設事業費 | DQ5: (A)のうち充当一般財源等
B6: 地方譲与税 | R6: 317742 | Z6: 1.2 | AD6: 317742 | AL6: 2.7 | AP6: 法定普通税 | BG6: 2575856 | BO6: 95.9 | BS6: - | CD6: 議会費 | CR6: 159863 | CZ6: 0.6 | DD6: - | DQ6: 156473
B7: 利子割交付金 | R7: 672 | Z7: 0 | AD7: 672 | AL7: 0 | AP7: 市町村民税 | BG7: 833395 | BO7: 31 | BS7: - | CD7: 総務費 | CR7: 8392815 | CZ7: 33.9 | DD7: 268713 | DQ7: 2031095
B8: 配当割交付金 | R8: 8233 | Z8: 0 | AD8: 8233 | AL8: 0.1 | AP8: 個人均等割 | BG8: 33917 | BO8: 1.3 | BS8: - | CD8: 民生費 | CR8: 4831861 | CZ8: 19.5 | DD8: 14543 | DQ8: 2749657
B9: 株式等譲渡所得割交付金 | R9: 12760 | Z9: 0.1 | AD9: 12760 | AL9: 0.1 | AP9: 所得割 | BG9: 662752 | BO9: 24.7 | BS9: - | CD9: 衛生費 | CR9: 2793354 | CZ9: 11.3 | DD9: 37846 | DQ9: 2339014
B10: 分離課税所得割交付金 | R10: - | Z10: - | AD10: - | AL10: - | AP10: 法人均等割 | BG10: 63273 | BO10: 2.4 | BS10: - | CD10: 労働費 | CR10: 94803 | CZ10: 0.4 | DD10: - | DQ10: 36070
B11: 地方消費税交付金 | R11: 650129 | Z11: 2.6 | AD11: 650129 | AL11: 5.5 | AP11: 法人税割 | BG11: 73453 | BO11: 2.7 | BS11: - | CD11: 農林水産業費 | CR11: 1218492 | CZ11: 4.9 | DD11: 295538 | DQ11: 752490
B12: ゴルフ場利用税交付金 | R12: - | Z12: - | AD12: - | AL12: - | AP12: 固定資産税 | BG12: 1467109 | BO12: 54.6 | BS12: - | CD12: 商工費 | CR12: 878118 | CZ12: 3.5 | DD12: 9016 | DQ12: 328944
B13: 自動車取得税交付金 | R13: - | Z13: - | AD13: - | AL13: - | AP13: うち純固定資産税 | BG13: 1300304 | BO13: 48.4 | BS13: - | CD13: 土木費 | CR13: 1815106 | CZ13: 7.3 | DD13: 644329 | DQ13: 1090191
B14: 軽油引取税交付金 | R14: - | Z14: - | AD14: - | AL14: - | AP14: 軽自動車税 | BG14: 102039 | BO14: 3.8 | BS14: - | CD14: 消防費 | CR14: 876318 | CZ14: 3.5 | DD14: 54748 | DQ14: 690030
B15: 自動車税環境性能割交付金 | R15: 17411 | Z15: 0.1 | AD15: 17411 | AL15: 0.1 | AP15: 市町村たばこ税 | BG15: 173313 | BO15: 6.5 | BS15: - | CD15: 教育費 | CR15: 1531875 | CZ15: 6.2 | DD15: 98469 | DQ15: 1179060
B16: 法人事業税交付金 | R16: 45873 | Z16: 0.2 | AD16: 45873 | AL16: 0.4 | AP16: 鉱産税 | BG16: - | BO16: - | BS16: - | CD16: 災害復旧費 | CR16: 118029 | CZ16: 0.5 | DD16: - | DQ16: 49886
B17: 地方特例交付金等 | R17: 97433 | Z17: 0.4 | AD17: 97433 | AL17: 0.8 | AP17: 特別土地保有税 | BG17: - | BO17: - | BS17: - | CD17: 公債費 | CR17: 2082813 | CZ17: 8.4 | DD17: - | DQ17: 2039925
B18: 住宅借入金等特別税額控除減収補塡特例交付金 | R18: 12120 | Z18: 0 | AD18: 12120 | AL18: 0.1 | AP18: 法定外普通税 | BG18: - | BO18: - | BS18: - | CD18: 諸支出金 | CR18: - | CZ18: - | DD18: - | DQ18: -
B19: 定額減税減収補塡特例交付金 | R19: 83202 | Z19: 0.3 | AD19: 83202 | AL19: 0.7 | AP19: 目的税 | BG19: 109058 | BO19: 4.1 | BS19: - | CD19: 前年度繰上充用金 | CR19: - | CZ19: - | DD19: - | DQ19: -
B20: 新型コロナウイルス感染症対策地方税減収補塡特別交付金 | R20: 2111 | Z20: 0 | AD20: 2111 | AL20: 0 | AP20: 法定目的税 | BG20: 109058 | BO20: 4.1 | BS20: - | CD20: 歳出合計 | CR20: 24793447 | CZ20: 100 | DD20: 1423202 | DQ20: 13442835
B21: 地方交付税 | R21: 9119893 | Z21: 35.8 | AD21: 7907725 | AL21: 67.2 | AP21: 入湯税 | BG21: 109058 | BO21: 4.1 | BS21: -
B22: 普通交付税 | R22: 7907725 | Z22: 31 | AD22: 7907725 | AL22: 67.2 | AP22: 事業所税 | BG22: - | BO22: - | BS22: - | CD22: 性質別歳出の状況（単位 千円・％）
B23: 特別交付税 | R23: 1212168 | Z23: 4.8 | AD23: - | AL23: - | AP23: 都市計画税 | BG23: - | BO23: - | BS23: - | CD23: 区分 | CR23: 決算額 | CZ23: 構成比 | DD23: 充当一般財源等 | DL23: 経常経費充当一般財源等 | DW23: 経常収支比率
B24: 震災復興特別交付税 | R24: - | Z24: - | AD24: - | AL24: - | AP24: 水利地益税等 | BG24: - | BO24: - | BS24: - | CD24: 義務的経費計 | CR24: 7776140 | CZ24: 31.4 | DD24: 6003082 | DL24: 5820732 | DW24: 49.3
B25: (一般財源計) | R25: 12955060 | Z25: 50.9 | AD25: 11742892 | AL25: 99.7 | AP25: 法定外目的税 | BG25: - | BO25: - | BS25: - | CD25: 人件費 | CR25: 3571068 | CZ25: 14.4 | DD25: 3226449 | DL25: 3214269 | DW25: 27.2
B26: 交通安全対策特別交付金 | R26: 2706 | Z26: 0 | AD26: 2706 | AL26: 0 | AP26: 旧法による税 | BG26: - | BO26: - | BS26: - | CD26: うち職員給 | CR26: 2084847 | CZ26: 8.4 | DD26: 1911665 | DL26: - | DW26: -
B27: 分担金・負担金 | R27: 99815 | Z27: 0.4 | AD27: 6354 | AL27: 0.1 | AP27: 合計 | BG27: 2684914 | BO27: 100 | BS27: - | CD27: 扶助費 | CR27: 2122259 | CZ27: 8.6 | DD27: 736708 | DL27: 566538 | DW27: 4.8
B28: 使用料 | R28: 240961 | Z28: 0.9 | AD28: 8353 | AL28: 0.1 | CD28: 公債費 | CR28: 2082813 | CZ28: 8.4 | DD28: 2039925 | DL28: 2039925 | DW28: 17.3
B29: 手数料 | R29: 14209 | Z29: 0.1 | AD29: 1 | AL29: 0 | CD29: 内訳 | CF29: 元利償還金 | CR29: 2082766 | CZ29: 8.4 | DD29: 2039878 | DL29: 2039878 | DW29: 17.3
B30: 国庫支出金 | R30: 1855239 | Z30: 7.3 | AD30: - | AL30: - | AP30: 区分 | BG30: 令和6年度 | BR30: 令和5年度 | CF30: うち元金 | CR30: 2030364 | CZ30: 8.2 | DD30: 1987476 | DL30: 1987476 | DW30: 16.8
B31: 国有提供交付金(特別区財調交付金) | R31: - | Z31: - | AD31: - | AL31: - | AP31: 徴収率 (％) | AT31: 現年 | AX31: 合計 | BG31: 99.2 | BM31: 95.6 | BR31: 99.3 | BX31: 96 | CF31: うち利子 | CR31: 52402 | CZ31: 0.2 | DD31: 52402 | DL31: 52402 | DW31: 0.4
B32: 都道府県支出金 | R32: 980702 | Z32: 3.9 | AD32: - | AL32: - | AU32: ・計 | AX32: 市町村民税 | BG32: 99.4 | BM32: 98.2 | BR32: 99.6 | BX32: 98.6 | CF32: 一時借入金利子 | CR32: 47 | CZ32: 0 | DD32: 47 | DL32: 47 | DW32: 0
B33: 財産収入 | R33: 34996 | Z33: 0.1 | AD33: 8675 | AL33: 0.1 | AX33: 純固定資産税 | BG33: 98.8 | BM33: 92.5 | BR33: 98.8 | BX33: 93 | CD33: その他の経費 | CR33: 15476076 | CZ33: 62.4 | DD33: 7247402 | DL33: 5678057 | DW33: 48.1
B34: 寄附金 | R34: 3893394 | Z34: 15.3 | AD34: - | AL34: - | CD34: 物件費 | CR34: 2933054 | CZ34: 11.8 | DD34: 1351482 | DL34: 1226354 | DW34: 10.4
B35: 繰入金 | R35: 3149986 | Z35: 12.4 | AD35: - | AL35: - | AQ35: 公営事業等への繰出 | BG35: 国民健康保険事業会計の状況 | CD35: 維持補修費 | CR35: 757136 | CZ35: 3.1 | DD35: 618297 | DL35: 438384 | DW35: 3.7
B36: 繰越金 | R36: 280740 | Z36: 1.1 | AD36: - | AL36: - | AQ36: 合計 | AZ36: 3445044 | BG36: 実質収支 | BV36: 66822 | CD36: 補助費等 | CR36: 5859336 | CZ36: 23.6 | DD36: 3688814 | DL36: 2881400 | DW36: 24.4
B37: 諸収入 | R37: 695871 | Z37: 2.7 | AD37: 3378 | AL37: 0 | AQ37: 病院 | AZ37: 1100000 | BG37: 再差引収支 | BV37: 21387 | CD37: うち一部事務組合負担金 | CR37: 1399185 | CZ37: 5.6 | DD37: 1318081 | DL37: 1308522 | DW37: 11.1
B38: 地方債 | R38: 1265033 | Z38: 5 | AD38: - | AL38: - | AQ38: 下水道 | AZ38: 650000 | BG38: 加入世帯数(世帯) | BV38: 3127 | CD38: 繰出金 | CR38: 1453545 | CZ38: 5.9 | DD38: 1255700 | DL38: 1131919 | DW38: 9.6
B39: うち減収補塡債(特例分) | R39: - | Z39: - | AD39: - | AL39: - | AQ39: 上水道 | AZ39: 194764 | BG39: 被保険者数(人) | BV39: 4453 | CD39: 積立金 | CR39: 3762319 | CZ39: 15.2 | DD39: 78723 | DL39: - | DW39: -
B40: うち臨時財政対策債 | R40: 24033 | Z40: 0.1 | AD40: - | AL40: - | AQ40: 介護サービス | AZ40: 123535 | BG40: 被保険者 1人当り | BM40: 保険税(料)収入額 | BV40: 75 | CD40: 投資・出資金・貸付金 | CR40: 710686 | CZ40: 2.9 | DD40: 254386 | DL40: - | DW40: -
...

Sheet 各会計、関係団体の財政状況及び健全化判断比率
A2: (2)各会計、関係団体の財政状況及び健全化判断比率（市町村） | DJ2: 令和6年度 | DQ2: 秋田県仙北市
A4: 一般会計等の財政状況（単位：百万円） | BQ4: 地方公社・第三セクター等の経営状況及び地方公共団体の財政的支援の状況（単位：百万円）
A5: 会計名 | Q5: 歳入 | V5: 歳出 | AA5: 形式収支 | AF5: 実質収支 | AK5: 他会計等 からの 繰入金 | AP5: 地方債 現在高 | AU5: 備考 | BQ5: 地方公社・第三セクター等名 | CH5: 経常損益 | CM5: 純資産又は 正味財産 | CR5: 当該団体 からの 出資金 | CW5: 当該団体 からの 補助金 | DB5: 当該団体 からの 貸付金 | DG5: 当該団体からの債務保証に係る債務残高 | DL5: 当該団体からの損失補償に係る債務残高 | DQ5: 一般会計等 負担見込額 | DV5: 備考
A7: 1 | B7: 一般会計 | Q7: 25920 | V7: 25244 | AA7: 675 | AF7: 624 | AK7: 3150 | AP7: 20886 | BQ7: 1 | BS7: おもてなしせんぼく | CH7: -20 | CM7: -308 | CR7: 40 | CW7: - | DB7: 290 | DG7: - | DL7: - | DQ7: -
A8: 2 | B8: 仙北市集中管理特別会計 | Q8: 4127 | V8: 4127 | AA8: - | AF8: - | AK8: - | AP8: - | BQ8: 2
A9: 3 | BQ9: 3
A10: 4 | BQ10: 4
A11: 5 | BQ11: 5
A12: 6 | BQ12: 6
A13: 7 | BQ13: 7
A14: 8 | BQ14: 8
A15: 9 | BQ15: 9
A16: 10 | BQ16: 10
A17: 11 | BQ17: 11
A18: 12 | BQ18: 12
A19: 13 | BQ19: 13
A20: 14 | BQ20: 14
A21: 15 | BQ21: 15
A22: 16 | AZ22: 実質赤字額 | BQ22: 16
A23: 計 | B23: 一般会計等（純計） | Q23: 29596 | V23: 28920 | AA23: 675 | AF23: 624 | AP23: 20886 | AZ23: - | BQ23: 17
A24: ※一般会計等（純計）は、各会計の相互間の繰入・繰出等の重複を控除したものであり、各会計の合計と一致しない場合がある。 | BQ24: 18
A25: 公営企業会計等の財政状況（単位：百万円） | BQ25: 19
A26: 会計名 | Q26: 総収益 （歳入） | V26: 総費用 （歳出） | AA26: 純損益 （形式収支） | AF26: 資金剰余額 /不足額 （実質収支） | AK26: 他会計等 からの 繰入金 | AP26: 企業債 （地方債） 現在高 | AU26: 左のうち 一般会計等 繰入見込額 | AZ26: 資金不足 比率 | BE26: 備考 | BQ26: 20
BQ27: 21
A28: 1 | B28: 仙北市国民健康保険特別会計（事業勘定） | Q28: 2640 | V28: 2573 | AA28: 67 | AF28: 67 | AK28: 191 | AP28: - | AU28: - | AZ28: - | BQ28: 22
A29: 2 | B29: 仙北市国民健康保険特別会計（神代診療施設勘定） | Q29: 73 | V29: 73 | AA29: 0 | AF29: 0 | AK29: 47 | AP29: - | AU29: - | AZ29: - | BQ29: 23
A30: 3 | B30: 仙北市後期高齢者医療特別会計 | Q30: 387 | V30: 387 | AA30: 0 | AF30: 0 | AK30: 128 | AP30: - | AU30: - | AZ30: - | BQ30: 24
A31: 4 | B31: 仙北市介護保険特別会計（介護サービス事業） | Q31: 469 | V31: 469 | AA31: 0 | AF31: 0 | AK31: 77 | AP31: - | AU31: - | AZ31: - | BQ31: 25
A32: 5 | B32: 仙北市水道事業会計 | Q32: 473 | V32: 598 | AA32: -126 | AF32: 249 | AK32: 195 | AP32: 3836 | AU32: 1308 | AZ32: - | BE32: 法適用企業 | BQ32: 26
A33: 6 | B33: 仙北市温泉事業会計 | Q33: 54 | V33: 57 | AA33: -3 | AF33: 117 | AK33: 47 | AP33: 78 | AU33: 77 | AZ33: - | BE33: 法適用企業 | BQ33: 27
A34: 7 | B34: 仙北市病院事業会計 | Q34: 4304 | V34: 5113 | AA34: -810 | AF34: -1328 | AK34: 1100 | AP34: 8048 | AU34: 5223 | AZ34: 35.1 | BE34: 法適用企業 | BQ34: 28
A35: 8 | B35: 仙北市下水道事業会計 | Q35: 857 | V35: 853 | AA35: 4 | AF35: 290 | AK35: 650 | AP35: 4562 | AU35: 3275 | AZ35: - | BE35: 法適用企業 | BQ35: 29
A36: 9 | BQ36: 30
A37: 10 | BQ37: 31
A38: 11 | BQ38: 32
A39: 12 | BQ39: 33
A40: 13 | BQ40: 34
A41: 14 | BQ41: 35
A42: 15 | BQ42: 36
A43: 16 | BQ43: 37
...

Sheet 財政比較分析表

Sheet 経常経費分析表（経常収支比率の分析）

Sheet 経常経費分析表（人件費・公債費・普通建設事業費の分析）
A5: 人件費及び人件費に準ずる費用の分析
AK6: 人件費及び人件費に準ずる費用
AO7: 当該団体決算額 （千円） | AQ7: 人口1人当たり決算額
AP8: 当該団体（円） | AQ8: 類似団体平均（円） | AR8: 対比（％）
AK9: 人件費 | AO9: 3571068 | AP9: 156222 | AQ9: 117270 | AR9: 33.2
AK10: 一部事務組合負担金（補助費等） | AO10: 521187 | AP10: 22800 | AQ10: 10490 | AR10: 117.3
AK11: 公営企業（法適）等に対する繰出し（補助費等） | AO11: - | AP11: - | AQ11: 1802 | AR11: -
AK12: 公営企業（法適）等に対する繰出し（投資及び出資金・貸付金） | AO12: - | AP12: - | AQ12: 3 | AR12: -
AK13: 公営企業（法非適）等に対する繰出し（繰出金） | AO13: 78581 | AP13: 3438 | AQ13: 4482 | AR13: -23.3
AK14: 事業費支弁に係る職員の人件費（投資的経費） | AO14: 32030 | AP14: 1401 | AQ14: 2749 | AR14: -49
AK15: ▲退職金 | AO15: -212990 | AP15: -9318 | AQ15: -7399 | AR15: 25.9
AK16: 合計 | AO16: 3989876 | AP16: 174543 | AQ16: 129397 | AR16: 34.9
AK19: 参考
AO20: 当該団体 | AP20: 類似団体平均 | AQ20: 対比（差引）
AK21: 人口1,000人当たり職員数（人） | AO21: 15.01 | AP21: 11.07 | AQ21: 3.94
AK22: ラスパイレス指数 | AO22: 97.5 | AP22: 97.2 | AQ22: 0.3
A26: （注）人口については、各調査対象年度の1月1日現在の住民基本台帳に登載されている人口に基づいている。
A28: 公債費及び公債費に準ずる費用の分析
AK29: 公債費及び公債費に準ずる費用（実質公債費比率の構成要素）
AO30: 当該団体決算額 （千円） | AQ30: 人口1人当たり決算額
AP31: 当該団体（円） | AQ31: 類似団体平均（円） | AR31: 対比（％）
AK32: 元利償還金の額 （繰上償還額等を除く） | AO32: 2082766 | AP32: 91114 | AQ32: 74841 | AR32: 21.7
AK33: 積立不足額を考慮して算定した額 | AO33: - | AP33: - | AQ33: - | AR33: -
AK34: 満期一括償還地方債の一年当たりの元金償還金に相当するもの （年度割相当額） | AO34: - | AP34: - | AQ34: 1 | AR34: -
AK35: 公営企業に要する経費の財源とする地方債の償還の財源に 充てたと認められる繰入金 | AO35: 783185 | AP35: 34262 | AQ35: 16683 | AR35: 105.4
AK36: 一部事務組合等の起こした地方債に充てたと認められる 補助金又は負担金 | AO36: - | AP36: - | AQ36: 2411 | AR36: -
AK37: 公債費に準ずる債務負担行為に係るもの | AO37: 35674 | AP37: 1561 | AQ37: 548 | AR37: 184.9
AK38: 一時借入金利子 （同一団体における会計間の現金運用に係る利子は除く） | AO38: 21 | AP38: 1 | AQ38: 7 | AR38: -85.7
AK39: ▲特定財源の額 | AO39: -66935 | AP39: -2928 | AQ39: -3756 | AR39: -22
AK40: ▲地方債に係る元利償還金及び準元利償還金に要する経費として 普通交付税の額の算定に用いる基準財政需要額に算入された額 | AO40: -1964990 | AP40: -85961 | AQ40: -63247 | AR40: 35.9
AK41: 合計 | AO41: 869721 | AP41: 38047 | AQ41: 27488 | AR41: 38.4
A47: （参考） 普通建設事業費の分析
AK48: 普通建設事業費
AM49: 当該団体決算額 （千円） | AN49: 人口１人当たり決算額
AN50: 当該団体(円) | AO50: 増減率(%)(A) | AP50: 類似団体平均(円) | AQ50: 増減率(%)(B) | AR50: (A)-(B)
AK51: R02 | AM51: 3425365 | AN51: 135336 | AO51: -5.6 | AP51: 92632 | AQ51: -1.5 | AR51: -4.1
AL52: うち単独分 | AM52: 2550721 | AN52: 100779 | AO52: -7.9 | AP52: 47978 | AQ52: -2 | AR52: -5.9
AK53: R03 | AM53: 1946746 | AN53: 78688 | AO53: -41.9 | AP53: 96469 | AQ53: 4.1 | AR53: -46
AL54: うち単独分 | AM54: 928641 | AN54: 37536 | AO54: -62.8 | AP54: 49775 | AQ54: 3.7 | AR54: -66.5
AK55: R04 | AM55: 1340518 | AN55: 55623 | AO55: -29.3 | AP55: 85743 | AQ55: -11.1 | AR55: -18.2
...

Sheet 性質別歳出決算分析表（住民一人当たりのコスト）

Sheet 目的別歳出決算分析表（住民一人当たりのコスト）

Sheet 実質収支比率等に係る経年分析
J45: 標準財政規模比（％）
B46: 区分 | E46: 年度 | F46: R02 | G46: R03 | H46: R04 | I46: R05 | J46: R06
C47: 財政調整基金残高 | F47: 8.78 | G47: 11.29 | H47: 11.8 | I47: 9.41 | J47: 10.6
C48: 実質収支額 | F48: 3.46 | G48: 4.11 | H48: 4.59 | I48: 3.48 | J48: 5.37
C49: 実質単年度収支 | F49: ▲ 2.33 | G49: 1.82 | H49: ▲ 1.90 | I49: ▲ 5.88 | J49: 1.43

Sheet 連結実質赤字比率に係る赤字・黒字の構成分析
J32: 標準財政規模比（％）
B33: 会計 | E33: 年度 | F33: R02 | G33: R03 | H33: R04 | I33: R05 | J33: R06
C34: 仙北市病院事業会計 | F34: ▲ 3.97 | G34: ▲ 4.63 | H34: ▲ 5.36 | I34: ▲ 6.24 | J34: ▲ 11.43
C35: 一般会計 | F35: 3.46 | G35: 4.1 | H35: 4.59 | I35: 3.48 | J35: 5.36
C36: 仙北市下水道事業会計 | F36: 1.44 | G36: 1.06 | H36: 1.28 | I36: 1.48 | J36: 2.49
C37: 仙北市水道事業会計 | F37: 5.57 | G37: 4.63 | H37: 4.11 | I37: 3.22 | J37: 2.14
C38: 仙北市温泉事業会計 | F38: 0.79 | G38: 0.82 | H38: 0.95 | I38: 0.95 | J38: 1
C39: 仙北市国民健康保険特別会計（事業勘定） | F39: 3.13 | G39: 1.54 | H39: 1.37 | I39: 0.91 | J39: 0.57
C40: 仙北市後期高齢者医療特別会計 | F40: 0.01 | G40: 0 | H40: 0 | I40: 0 | J40: 0
C41: 仙北市介護保険特別会計（介護サービス事業） | F41: 0 | G41: 0 | H41: 0 | I41: 0 | J41: 0
C42: その他会計（赤字） | F42: - | G42: - | H42: - | I42: - | J42: -
C43: その他会計（黒字） | F43: 0 | G43: 0 | H43: 0 | I43: 0 | J43: 0

Sheet 実質公債費比率（分子）の構造
O43: （百万円）
B44: 分子の構造 | J44: 年度 | K44: R02 | L44: R03 | M44: R04 | N44: R05 | O44: R06
B45: 元利償還金等(A) | E45: 元利償還金 | K45: 2079 | L45: 2084 | M45: 2153 | N45: 2177 | O45: 2083
E46: 減債基金積立不足算定額※2 | K46: - | L46: - | M46: - | N46: - | O46: -
E47: 満期一括償還地方債に係る年度割相当額 | K47: - | L47: - | M47: - | N47: - | O47: -
E48: 公営企業債の元利償還金に対する繰入金 | K48: 992 | L48: 918 | M48: 805 | N48: 798 | O48: 783
E49: 組合等が起こした地方債の元利償還金に対する負担金等 | K49: 3 | L49: 3 | M49: 1 | N49: - | O49: -
E50: 債務負担行為に基づく支出額 | K50: 10 | L50: 19 | M50: 18 | N50: 26 | O50: 36
E51: 一時借入金の利子 | K51: 1 | L51: 1 | M51: 0 | N51: 0 | O51: 0
B52: 算入公債費等(B) | E52: 算入公債費等 | K52: 2196 | L52: 2211 | M52: 2154 | N52: 2137 | O52: 2032
B53: (A)－(B) | E53: 実質公債費比率の分子 | K53: 889 | L53: 814 | M53: 823 | N53: 864 | O53: 870
B54: ※ 減債基金積立不足算定額=(C)×(１－(D)/(E))
B56: （参考） | O56: （百万円）
J57: 年度 | K57: R02 | L57: R03 | M57: R04 | N57: R05 | O57: R06
B58: 減債基金 積立状況等（注） | D58: 満期一括償還地方債に係る実質償還額又は理論償還額のいずれか少ない額(C)
D59: 前年度末減債基金残高(D)
D60: 前年度末減債基金積立相当額(E)
D61: （注）減債基金のうち、実質公債費比率の算定に用いる満期一括償還地方債の償還の財源に係るもののみを記入。
D62: 減債基金積立金の年度を超えた一般会計又は特別会計への貸付額は控除して記入。

Sheet 将来負担比率（分子）の構造
M39: （百万円）
B40: 分子の構造 | H40: 年度 | I40: R02 | J40: R03 | K40: R04 | L40: R05 | M40: R06
B41: 将来負担額(A) | E41: 一般会計等に係る地方債の現在高 | I41: 23537 | J41: 23222 | K41: 22569 | L41: 21651 | M41: 20886
E42: 債務負担行為に基づく支出予定額 | I42: - | J42: - | K42: - | L42: - | M42: 133
E43: 公営企業債等繰入見込額 | I43: 13790 | J43: 12522 | K43: 11871 | L43: 11630 | M43: 9884
E44: 組合等負担等見込額 | I44: 4 | J44: 1 | K44: - | L44: - | M44: -
E45: 退職手当負担見込額 | I45: 2366 | J45: 2128 | K45: 2127 | L45: 2081 | M45: 2130
E46: 設立法人等の負債額等負担見込額 | I46: - | J46: - | K46: - | L46: - | M46: -
E47: うち、健全化法施行規則附則第三条に係る負担見込額 | I47: - | J47: - | K47: - | L47: - | M47: -
E48: 連結実質赤字額 | I48: - | J48: - | K48: - | L48: - | M48: -
E49: 組合等連結実質赤字額負担見込額 | I49: - | J49: - | K49: - | L49: - | M49: -
B50: 充当可能財源等(B) | E50: 充当可能基金 | I50: 2309 | J50: 2919 | K50: 3103 | L50: 3352 | M50: 4217
E51: 充当可能特定歳入 | I51: 470 | J51: 408 | K51: 327 | L51: 258 | M51: 204
E52: 基準財政需要額算入見込額 | I52: 25192 | J52: 24581 | K52: 23380 | L52: 22423 | M52: 21297
B53: (A)－(B) | E53: 将来負担比率の分子 | I53: 11727 | J53: 9965 | K53: 9757 | L53: 9329 | M53: 7316

Sheet 基金残高に係る経年分析
H53: （百万円）
B54: 区分 | E54: 年度 | F54: R04 | G54: R05 | H54: R06
C55: 財政調整基金 | F55: 1367 | G55: 1085 | H55: 1230
C56: 減債基金 | F56: 120 | G56: 167 | H56: 204
C57: その他特定目的基金 | F57: 1772 | G57: 2273 | H57: 2913
C58: ふるさと仙北応援基金 | F58: 831 | G58: 1295 | H58: 1934
C59: 仙北市ふるさと振興基金 | F59: 644 | G59: 624 | H59: 594
C60: 仙北市公共施設等総合管理基金 | F60: 137 | G60: 187 | H60: 181
C61: 仙北市森林環境譲与税基金 | F61: 46 | G61: 54 | H61: 73
C62: 仙北市温泉事業施設整備基金 | F62: 34 | G62: 27 | H62: 27
C63: 基金残高合計 | F63: 3259 | G63: 3526 | H63: 4347

Sheet 公会計指標分析・財政指標組合せ分析表
B41: 将来負担比率及び有形固定資産減価償却率の組合せによる分析
AN42: 分析欄
AN43: 新規の市債発行を抑制したことにより将来負担比率が減少したものの、類似団体内平均値と比較すると大きく乖離している。 また、施設更新等に着手していないため有形固定資産減価償却率は増加しており、こちらも類似団体内平均値と比較すると大きく乖離していることから、当市の公共施設の老朽化が進行しているといえる。 令和7年度の角館上野庁舎建設事業に係る地方債の借入により、地方債残高が増加する見込みであるため、他の建設事業等における地方債発行を可能な限り抑制しつつ、仙北市公共施設等総合管理計画に基づく適切な長寿命化改良を実施し両比率の抑制を図る。
AN49: ( 参考 ）
BP50: R02 | BX50: R03 | CF50: R04 | CN50: R05 | CV50: R06
AN51: 当該団体値 | BB51: 将来負担比率 | BP51: 121.1 | BX51: 99.6 | CF51: 103 | CN51: 98.8 | CV51: 75.8
BB53: 有形固定資産減価償却率 | BP53: 81.3 | BX53: 81.6 | CF53: 82.5 | CN53: 83 | CV53: 83.8
AN55: 類似団体内平均値 | BB55: 将来負担比率 | BP55: 41.5 | BX55: 25.2 | CF55: 15.7 | CN55: 10.2 | CV55: 10.5
BB57: 有形固定資産減価償却率 | BP57: 61.7 | BX57: 62.5 | CF57: 64.3 | CN57: 64.7 | CV57: 65.7
B63: 将来負担比率及び実質公債費比率の組合せによる分析
AN64: 分析欄
AN65: 将来負担比率については、新規の市債発行を抑制したこと等により前年度比23ポイントの減となっている。実質公債比率は前年度比0.3ポイント増加しているが、給与改定費の再算定等による普通交付税交付額（臨財債含む）が増加したことにより分母が大きくなったことから、単年度比率としては前年度比0.1ポイント減少している。 一般会計における元利償還額は令和5年度をピークに令和6年度で減少したものの、令和元年度からの庁舎整備事業に係る地方債償還が開始することから、令和7年度から再び増加する見込みとなっており、償還利子についても昨今の利率見直しにより大幅に増加していることから両比率の増加が想定される。令和7年度には庁舎整備に係る起債発行、その後も学校再編や公共施設の改修・解体に係る起債発行を見込んでいることから、向こう数年の比率の抑制は難しいものと考えている。そのため元利償還金の増額に対応し、予算見直しによる財源捻出を行う必要がある。
AN71: ( 参考 ）
BP72: R02 | BX72: R03 | CF72: R04 | CN72: R05 | CV72: R06
AN73: 当該団体値 | BB73: 将来負担比率 | BP73: 121.1 | BX73: 99.6 | CF73: 103 | CN73: 98.8 | CV73: 75.8
BB75: 実質公債費比率 | BP75: 9.9 | BX75: 9.3 | CF75: 8.6 | CN75: 8.6 | CV75: 8.9
AN77: 類似団体内平均値 | BB77: 将来負担比率 | BP77: 41.5 | BX77: 25.2 | CF77: 15.7 | CN77: 10.2 | CV77: 10.5
BB79: 実質公債費比率 | BP79: 9.2 | BX79: 8.9 | CF79: 8.9 | CN79: 9 | CV79: 8.9

Sheet 施設類型別ストック情報分析表①

Sheet 施設類型別ストック情報分析表②

Sheet データシート
D2: 当該団体(円) | F2: 類似団体内平均(円)
A3: R02 | D3: 135336 | F3: 92632
D4: 100779 | F4: 47978
A5: R03 | D5: 78688 | F5: 96469
D6: 37536 | F6: 49775
A7: R04 | D7: 55623 | F7: 85743
D8: 26862 | F8: 45231
A9: R05 | D9: 53612 | F9: 92509
D10: 22017 | F10: 52274
A11: R06 | D11: 62260 | F11: 98544
D12: 31908 | F12: 55816
D13: 77104 | F13: 93179
D14: 43820 | F14: 50215
A17: 実質収支比率等に係る経年分析
B18: =#REF! -> #REF! | C18: =#REF! -> #REF! | D18: =#REF! -> #REF! | E18: =#REF! -> #REF! | F18: =#REF! -> #REF!
A19: 実質収支額 | B19: =ROUND(VALUE(SUBSTITUTE(#REF!,"▲","-")),2) -> #REF! | C19: =ROUND(VALUE(SUBSTITUTE(#REF!,"▲","-")),2) -> #REF! | D19: =ROUND(VALUE(SUBSTITUTE(#REF!,"▲","-")),2) -> #REF! | E19: =ROUND(VALUE(SUBSTITUTE(#REF!,"▲","-")),2) -> #REF! | F19: =ROUND(VALUE(SUBSTITUTE(#REF!,"▲","-")),2) -> #REF!
A20: 財政調整基金残高 | B20: =ROUND(VALUE(SUBSTITUTE(#REF!,"▲","-")),2) -> #REF! | C20: =ROUND(VALUE(SUBSTITUTE(#REF!,"▲","-")),2) -> #REF! | D20: =ROUND(VALUE(SUBSTITUTE(#REF!,"▲","-")),2) -> #REF! | E20: =ROUND(VALUE(SUBSTITUTE(#REF!,"▲","-")),2) -> #REF! | F20: =ROUND(VALUE(SUBSTITUTE(#REF!,"▲","-")),2) -> #REF!
A21: 実質単年度収支 | B21: =IF(ISNUMBER(VALUE(SUBSTITUTE(#REF!,"▲","-"))),ROUND(VALUE(SUBSTITUTE(#REF!,"▲","-")),2),NA()) -> #N/A | C21: =IF(ISNUMBER(VALUE(SUBSTITUTE(#REF!,"▲","-"))),ROUND(VALUE(SUBSTITUTE(#REF!,"▲","-")),2),NA()) -> #N/A | D21: =IF(ISNUMBER(VALUE(SUBSTITUTE(#REF!,"▲","-"))),ROUND(VALUE(SUBSTITUTE(#REF!,"▲","-")),2),NA()) -> #N/A | E21: =IF(ISNUMBER(VALUE(SUBSTITUTE(#REF!,"▲","-"))),ROUND(VALUE(SUBSTITUTE(#REF!,"▲","-")),2),NA()) -> #N/A | F21: =IF(ISNUMBER(VALUE(SUBSTITUTE(#REF!,"▲","-"))),ROUND(VALUE(SUBSTITUTE(#REF!,"▲","-")),2),NA()) -> #N/A
A24: 連結実質赤字比率に係る赤字・黒字の構成分析
B25: =#REF! -> #REF! | D25: =#REF! -> #REF! | F25: =#REF! -> #REF! | H25: =#REF! -> #REF! | J25: =#REF! -> #REF!
B26: 赤字額 | C26: 黒字額 | D26: 赤字額 | E26: 黒字額 | F26: 赤字額 | G26: 黒字額 | H26: 赤字額 | I26: 黒字額 | J26: 赤字額 | K26: 黒字額
A27: =IF(#REF!="",NA(),#REF!) -> #REF! | B27: =IF(ROUND(VALUE(SUBSTITUTE(#REF!,"▲", "-")), 2) < 0, ABS(ROUND(VALUE(SUBSTITUTE(#REF!,"▲", "-")), 2)), NA()) -> #REF! | C27: =IF(ROUND(VALUE(SUBSTITUTE(#REF!,"▲", "-")), 2) >= 0, ABS(ROUND(VALUE(SUBSTITUTE(#REF!,"▲", "-")), 2)), NA()) -> #REF! | D27: =IF(ROUND(VALUE(SUBSTITUTE(#REF!,"▲", "-")), 2) < 0, ABS(ROUND(VALUE(SUBSTITUTE(#REF!,"▲", "-")), 2)), NA()) -> #REF! | E27: =IF(ROUND(VALUE(SUBSTITUTE(#REF!,"▲", "-")), 2) >= 0, ABS(ROUND(VALUE(SUBSTITUTE(#REF!,"▲", "-")), 2)), NA()) -> #REF! | F27: =IF(ROUND(VALUE(SUBSTITUTE(#REF!,"▲", "-")), 2) < 0, ABS(ROUND(VALUE(SUBSTITUTE(#REF!,"▲", "-")), 2)), NA()) -> #REF! | G27: =IF(ROUND(VALUE(SUBSTITUTE(#REF!,"▲", "-")), 2) >= 0, ABS(ROUND(VALUE(SUBSTITUTE(#REF!,"▲", "-")), 2)), NA()) -> #REF! | H27: =IF(ROUND(VALUE(SUBSTITUTE(#REF!,"▲", "-")), 2) < 0, ABS(ROUND(VALUE(SUBSTITUTE(#REF!,"▲", "-")), 2)), NA()) -> #REF! | I27: =IF(ROUND(VALUE(SUBSTITUTE(#REF!,"▲", "-")), 2) >= 0, ABS(ROUND(VALUE(SUBSTITUTE(#REF!,"▲", "-")), 2)), NA()) -> #REF! | J27: =IF(ROUND(VALUE(SUBSTITUTE(#REF!,"▲", "-")), 2) < 0, ABS(ROUND(VALUE(SUBSTITUTE(#REF!,"▲", "-")), 2)), NA()) -> #REF! | K27: =IF(ROUND(VALUE(SUBSTITUTE(#REF!,"▲", "-")), 2) >= 0, ABS(ROUND(VALUE(SUBSTITUTE(#REF!,"▲", "-")), 2)), NA()) -> #REF!
A28: =IF(#REF!="",NA(),#REF!) -> #REF! | B28: =IF(ROUND(VALUE(SUBSTITUTE(#REF!,"▲", "-")), 2) < 0, ABS(ROUND(VALUE(SUBSTITUTE(#REF!,"▲", "-")), 2)), NA()) -> #REF! | C28: =IF(ROUND(VALUE(SUBSTITUTE(#REF!,"▲", "-")), 2) >= 0, ABS(ROUND(VALUE(SUBSTITUTE(#REF!,"▲", "-")), 2)), NA()) -> #REF! | D28: =IF(ROUND(VALUE(SUBSTITUTE(#REF!,"▲", "-")), 2) < 0, ABS(ROUND(VALUE(SUBSTITUTE(#REF!,"▲", "-")), 2)), NA()) -> #REF! | E28: =IF(ROUND(VALUE(SUBSTITUTE(#REF!,"▲", "-")), 2) >= 0, ABS(ROUND(VALUE(SUBSTITUTE(#REF!,"▲", "-")), 2)), NA()) -> #REF! | F28: =IF(ROUND(VALUE(SUBSTITUTE(#REF!,"▲", "-")), 2) < 0, ABS(ROUND(VALUE(SUBSTITUTE(#REF!,"▲", "-")), 2)), NA()) -> #REF! | G28: =IF(ROUND(VALUE(SUBSTITUTE(#REF!,"▲", "-")), 2) >= 0, ABS(ROUND(VALUE(SUBSTITUTE(#REF!,"▲", "-")), 2)), NA()) -> #REF! | H28: =IF(ROUND(VALUE(SUBSTITUTE(#REF!,"▲", "-")), 2) < 0, ABS(ROUND(VALUE(SUBSTITUTE(#REF!,"▲", "-")), 2)), NA()) -> #REF! | I28: =IF(ROUND(VALUE(SUBSTITUTE(#REF!,"▲", "-")), 2) >= 0, ABS(ROUND(VALUE(SUBSTITUTE(#REF!,"▲", "-")), 2)), NA()) -> #REF! | J28: =IF(ROUND(VALUE(SUBSTITUTE(#REF!,"▲", "-")), 2) < 0, ABS(ROUND(VALUE(SUBSTITUTE(#REF!,"▲", "-")), 2)), NA()) -> #REF! | K28: =IF(ROUND(VALUE(SUBSTITUTE(#REF!,"▲", "-")), 2) >= 0, ABS(ROUND(VALUE(SUBSTITUTE(#REF!,"▲", "-")), 2)), NA()) -> #REF!
A29: =IF(#REF!="",NA(),#REF!) -> #REF! | B29: =IF(ROUND(VALUE(SUBSTITUTE(#REF!,"▲", "-")), 2) < 0, ABS(ROUND(VALUE(SUBSTITUTE(#REF!,"▲", "-")), 2)), NA()) -> #REF! | C29: =IF(ROUND(VALUE(SUBSTITUTE(#REF!,"▲", "-")), 2) >= 0, ABS(ROUND(VALUE(SUBSTITUTE(#REF!,"▲", "-")), 2)), NA()) -> #REF! | D29: =IF(ROUND(VALUE(SUBSTITUTE(#REF!,"▲", "-")), 2) < 0, ABS(ROUND(VALUE(SUBSTITUTE(#REF!,"▲", "-")), 2)), NA()) -> #REF! | E29: =IF(ROUND(VALUE(SUBSTITUTE(#REF!,"▲", "-")), 2) >= 0, ABS(ROUND(VALUE(SUBSTITUTE(#REF!,"▲", "-")), 2)), NA()) -> #REF! | F29: =IF(ROUND(VALUE(SUBSTITUTE(#REF!,"▲", "-")), 2) < 0, ABS(ROUND(VALUE(SUBSTITUTE(#REF!,"▲", "-")), 2)), NA()) -> #REF! | G29: =IF(ROUND(VALUE(SUBSTITUTE(#REF!,"▲", "-")), 2) >= 0, ABS(ROUND(VALUE(SUBSTITUTE(#REF!,"▲", "-")), 2)), NA()) -> #REF! | H29: =IF(ROUND(VALUE(SUBSTITUTE(#REF!,"▲", "-")), 2) < 0, ABS(ROUND(VALUE(SUBSTITUTE(#REF!,"▲", "-")), 2)), NA()) -> #REF! | I29: =IF(ROUND(VALUE(SUBSTITUTE(#REF!,"▲", "-")), 2) >= 0, ABS(ROUND(VALUE(SUBSTITUTE(#REF!,"▲", "-")), 2)), NA()) -> #REF! | J29: =IF(ROUND(VALUE(SUBSTITUTE(#REF!,"▲", "-")), 2) < 0, ABS(ROUND(VALUE(SUBSTITUTE(#REF!,"▲", "-")), 2)), NA()) -> #REF! | K29: =IF(ROUND(VALUE(SUBSTITUTE(#REF!,"▲", "-")), 2) >= 0, ABS(ROUND(VALUE(SUBSTITUTE(#REF!,"▲", "-")), 2)), NA()) -> #REF!
A30: =IF(#REF!="",NA(),#REF!) -> #REF! | B30: =IF(ROUND(VALUE(SUBSTITUTE(#REF!,"▲", "-")), 2) < 0, ABS(ROUND(VALUE(SUBSTITUTE(#REF!,"▲", "-")), 2)), NA()) -> #REF! | C30: =IF(ROUND(VALUE(SUBSTITUTE(#REF!,"▲", "-")), 2) >= 0, ABS(ROUND(VALUE(SUBSTITUTE(#REF!,"▲", "-")), 2)), NA()) -> #REF! | D30: =IF(ROUND(VALUE(SUBSTITUTE(#REF!,"▲", "-")), 2) < 0, ABS(ROUND(VALUE(SUBSTITUTE(#REF!,"▲", "-")), 2)), NA()) -> #REF! | E30: =IF(ROUND(VALUE(SUBSTITUTE(#REF!,"▲", "-")), 2) >= 0, ABS(ROUND(VALUE(SUBSTITUTE(#REF!,"▲", "-")), 2)), NA()) -> #REF! | F30: =IF(ROUND(VALUE(SUBSTITUTE(#REF!,"▲", "-")), 2) < 0, ABS(ROUND(VALUE(SUBSTITUTE(#REF!,"▲", "-")), 2)), NA()) -> #REF! | G30: =IF(ROUND(VALUE(SUBSTITUTE(#REF!,"▲", "-")), 2) >= 0, ABS(ROUND(VALUE(SUBSTITUTE(#REF!,"▲", "-")), 2)), NA()) -> #REF! | H30: =IF(ROUND(VALUE(SUBSTITUTE(#REF!,"▲", "-")), 2) < 0, ABS(ROUND(VALUE(SUBSTITUTE(#REF!,"▲", "-")), 2)), NA()) -> #REF! | I30: =IF(ROUND(VALUE(SUBSTITUTE(#REF!,"▲", "-")), 2) >= 0, ABS(ROUND(VALUE(SUBSTITUTE(#REF!,"▲", "-")), 2)), NA()) -> #REF! | J30: =IF(ROUND(VALUE(SUBSTITUTE(#REF!,"▲", "-")), 2) < 0, ABS(ROUND(VALUE(SUBSTITUTE(#REF!,"▲", "-")), 2)), NA()) -> #REF! | K30: =IF(ROUND(VALUE(SUBSTITUTE(#REF!,"▲", "-")), 2) >= 0, ABS(ROUND(VALUE(SUBSTITUTE(#REF!,"▲", "-")), 2)), NA()) -> #REF!
A31: =IF(#REF!="",NA(),#REF!) -> #REF! | B31: =IF(ROUND(VALUE(SUBSTITUTE(#REF!,"▲", "-")), 2) < 0, ABS(ROUND(VALUE(SUBSTITUTE(#REF!,"▲", "-")), 2)), NA()) -> #REF! | C31: =IF(ROUND(VALUE(SUBSTITUTE(#REF!,"▲", "-")), 2) >= 0, ABS(ROUND(VALUE(SUBSTITUTE(#REF!,"▲", "-")), 2)), NA()) -> #REF! | D31: =IF(ROUND(VALUE(SUBSTITUTE(#REF!,"▲", "-")), 2) < 0, ABS(ROUND(VALUE(SUBSTITUTE(#REF!,"▲", "-")), 2)), NA()) -> #REF! | E31: =IF(ROUND(VALUE(SUBSTITUTE(#REF!,"▲", "-")), 2) >= 0, ABS(ROUND(VALUE(SUBSTITUTE(#REF!,"▲", "-")), 2)), NA()) -> #REF! | F31: =IF(ROUND(VALUE(SUBSTITUTE(#REF!,"▲", "-")), 2) < 0, ABS(ROUND(VALUE(SUBSTITUTE(#REF!,"▲", "-")), 2)), NA()) -> #REF! | G31: =IF(ROUND(VALUE(SUBSTITUTE(#REF!,"▲", "-")), 2) >= 0, ABS(ROUND(VALUE(SUBSTITUTE(#REF!,"▲", "-")), 2)), NA()) -> #REF! | H31: =IF(ROUND(VALUE(SUBSTITUTE(#REF!,"▲", "-")), 2) < 0, ABS(ROUND(VALUE(SUBSTITUTE(#REF!,"▲", "-")), 2)), NA()) -> #REF! | I31: =IF(ROUND(VALUE(SUBSTITUTE(#REF!,"▲", "-")), 2) >= 0, ABS(ROUND(VALUE(SUBSTITUTE(#REF!,"▲", "-")), 2)), NA()) -> #REF! | J31: =IF(ROUND(VALUE(SUBSTITUTE(#REF!,"▲", "-")), 2) < 0, ABS(ROUND(VALUE(SUBSTITUTE(#REF!,"▲", "-")), 2)), NA()) -> #REF! | K31: =IF(ROUND(VALUE(SUBSTITUTE(#REF!,"▲", "-")), 2) >= 0, ABS(ROUND(VALUE(SUBSTITUTE(#REF!,"▲", "-")), 2)), NA()) -> #REF!
A32: =IF(#REF!="",NA(),#REF!) -> #REF! | B32: =IF(ROUND(VALUE(SUBSTITUTE(#REF!,"▲", "-")), 2) < 0, ABS(ROUND(VALUE(SUBSTITUTE(#REF!,"▲", "-")), 2)), NA()) -> #REF! | C32: =IF(ROUND(VALUE(SUBSTITUTE(#REF!,"▲", "-")), 2) >= 0, ABS(ROUND(VALUE(SUBSTITUTE(#REF!,"▲", "-")), 2)), NA()) -> #REF! | D32: =IF(ROUND(VALUE(SUBSTITUTE(#REF!,"▲", "-")), 2) < 0, ABS(ROUND(VALUE(SUBSTITUTE(#REF!,"▲", "-")), 2)), NA()) -> #REF! | E32: =IF(ROUND(VALUE(SUBSTITUTE(#REF!,"▲", "-")), 2) >= 0, ABS(ROUND(VALUE(SUBSTITUTE(#REF!,"▲", "-")), 2)), NA()) -> #REF! | F32: =IF(ROUND(VALUE(SUBSTITUTE(#REF!,"▲", "-")), 2) < 0, ABS(ROUND(VALUE(SUBSTITUTE(#REF!,"▲", "-")), 2)), NA()) -> #REF! | G32: =IF(ROUND(VALUE(SUBSTITUTE(#REF!,"▲", "-")), 2) >= 0, ABS(ROUND(VALUE(SUBSTITUTE(#REF!,"▲", "-")), 2)), NA()) -> #REF! | H32: =IF(ROUND(VALUE(SUBSTITUTE(#REF!,"▲", "-")), 2) < 0, ABS(ROUND(VALUE(SUBSTITUTE(#REF!,"▲", "-")), 2)), NA()) -> #REF! | I32: =IF(ROUND(VALUE(SUBSTITUTE(#REF!,"▲", "-")), 2) >= 0, ABS(ROUND(VALUE(SUBSTITUTE(#REF!,"▲", "-")), 2)), NA()) -> #REF! | J32: =IF(ROUND(VALUE(SUBSTITUTE(#REF!,"▲", "-")), 2) < 0, ABS(ROUND(VALUE(SUBSTITUTE(#REF!,"▲", "-")), 2)), NA()) -> #REF! | K32: =IF(ROUND(VALUE(SUBSTITUTE(#REF!,"▲", "-")), 2) >= 0, ABS(ROUND(VALUE(SUBSTITUTE(#REF!,"▲", "-")), 2)), NA()) -> #REF!
A33: =IF(#REF!="",NA(),#REF!) -> #REF! | B33: =IF(ROUND(VALUE(SUBSTITUTE(#REF!,"▲", "-")), 2) < 0, ABS(ROUND(VALUE(SUBSTITUTE(#REF!,"▲", "-")), 2)), NA()) -> #REF! | C33: =IF(ROUND(VALUE(SUBSTITUTE(#REF!,"▲", "-")), 2) >= 0, ABS(ROUND(VALUE(SUBSTITUTE(#REF!,"▲", "-")), 2)), NA()) -> #REF! | D33: =IF(ROUND(VALUE(SUBSTITUTE(#REF!,"▲", "-")), 2) < 0, ABS(ROUND(VALUE(SUBSTITUTE(#REF!,"▲", "-")), 2)), NA()) -> #REF! | E33: =IF(ROUND(VALUE(SUBSTITUTE(#REF!,"▲", "-")), 2) >= 0, ABS(ROUND(VALUE(SUBSTITUTE(#REF!,"▲", "-")), 2)), NA()) -> #REF! | F33: =IF(ROUND(VALUE(SUBSTITUTE(#REF!,"▲", "-")), 2) < 0, ABS(ROUND(VALUE(SUBSTITUTE(#REF!,"▲", "-")), 2)), NA()) -> #REF! | G33: =IF(ROUND(VALUE(SUBSTITUTE(#REF!,"▲", "-")), 2) >= 0, ABS(ROUND(VALUE(SUBSTITUTE(#REF!,"▲", "-")), 2)), NA()) -> #REF! | H33: =IF(ROUND(VALUE(SUBSTITUTE(#REF!,"▲", "-")), 2) < 0, ABS(ROUND(VALUE(SUBSTITUTE(#REF!,"▲", "-")), 2)), NA()) -> #REF! | I33: =IF(ROUND(VALUE(SUBSTITUTE(#REF!,"▲", "-")), 2) >= 0, ABS(ROUND(VALUE(SUBSTITUTE(#REF!,"▲", "-")), 2)), NA()) -> #REF! | J33: =IF(ROUND(VALUE(SUBSTITUTE(#REF!,"▲", "-")), 2) < 0, ABS(ROUND(VALUE(SUBSTITUTE(#REF!,"▲", "-")), 2)), NA()) -> #REF! | K33: =IF(ROUND(VALUE(SUBSTITUTE(#REF!,"▲", "-")), 2) >= 0, ABS(ROUND(VALUE(SUBSTITUTE(#REF!,"▲", "-")), 2)), NA()) -> #REF!
A34: =IF(#REF!="",NA(),#REF!) -> #REF! | B34: =IF(ROUND(VALUE(SUBSTITUTE(#REF!,"▲", "-")), 2) < 0, ABS(ROUND(VALUE(SUBSTITUTE(#REF!,"▲", "-")), 2)), NA()) -> #REF! | C34: =IF(ROUND(VALUE(SUBSTITUTE(#REF!,"▲", "-")), 2) >= 0, ABS(ROUND(VALUE(SUBSTITUTE(#REF!,"▲", "-")), 2)), NA()) -> #REF! | D34: =IF(ROUND(VALUE(SUBSTITUTE(#REF!,"▲", "-")), 2) < 0, ABS(ROUND(VALUE(SUBSTITUTE(#REF!,"▲", "-")), 2)), NA()) -> #REF! | E34: =IF(ROUND(VALUE(SUBSTITUTE(#REF!,"▲", "-")), 2) >= 0, ABS(ROUND(VALUE(SUBSTITUTE(#REF!,"▲", "-")), 2)), NA()) -> #REF! | F34: =IF(ROUND(VALUE(SUBSTITUTE(#REF!,"▲", "-")), 2) < 0, ABS(ROUND(VALUE(SUBSTITUTE(#REF!,"▲", "-")), 2)), NA()) -> #REF! | G34: =IF(ROUND(VALUE(SUBSTITUTE(#REF!,"▲", "-")), 2) >= 0, ABS(ROUND(VALUE(SUBSTITUTE(#REF!,"▲", "-")), 2)), NA()) -> #REF! | H34: =IF(ROUND(VALUE(SUBSTITUTE(#REF!,"▲", "-")), 2) < 0, ABS(ROUND(VALUE(SUBSTITUTE(#REF!,"▲", "-")), 2)), NA()) -> #REF! | I34: =IF(ROUND(VALUE(SUBSTITUTE(#REF!,"▲", "-")), 2) >= 0, ABS(ROUND(VALUE(SUBSTITUTE(#REF!,"▲", "-")), 2)), NA()) -> #REF! | J34: =IF(ROUND(VALUE(SUBSTITUTE(#REF!,"▲", "-")), 2) < 0, ABS(ROUND(VALUE(SUBSTITUTE(#REF!,"▲", "-")), 2)), NA()) -> #REF! | K34: =IF(ROUND(VALUE(SUBSTITUTE(#REF!,"▲", "-")), 2) >= 0, ABS(ROUND(VALUE(SUBSTITUTE(#REF!,"▲", "-")), 2)), NA()) -> #REF!
A35: =IF(#REF!="",NA(),#REF!) -> #REF! | B35: =IF(ROUND(VALUE(SUBSTITUTE(#REF!,"▲", "-")), 2) < 0, ABS(ROUND(VALUE(SUBSTITUTE(#REF!,"▲", "-")), 2)), NA()) -> #REF! | C35: =IF(ROUND(VALUE(SUBSTITUTE(#REF!,"▲", "-")), 2) >= 0, ABS(ROUND(VALUE(SUBSTITUTE(#REF!,"▲", "-")), 2)), NA()) -> #REF! | D35: =IF(ROUND(VALUE(SUBSTITUTE(#REF!,"▲", "-")), 2) < 0, ABS(ROUND(VALUE(SUBSTITUTE(#REF!,"▲", "-")), 2)), NA()) -> #REF! | E35: =IF(ROUND(VALUE(SUBSTITUTE(#REF!,"▲", "-")), 2) >= 0, ABS(ROUND(VALUE(SUBSTITUTE(#REF!,"▲", "-")), 2)), NA()) -> #REF! | F35: =IF(ROUND(VALUE(SUBSTITUTE(#REF!,"▲", "-")), 2) < 0, ABS(ROUND(VALUE(SUBSTITUTE(#REF!,"▲", "-")), 2)), NA()) -> #REF! | G35: =IF(ROUND(VALUE(SUBSTITUTE(#REF!,"▲", "-")), 2) >= 0, ABS(ROUND(VALUE(SUBSTITUTE(#REF!,"▲", "-")), 2)), NA()) -> #REF! | H35: =IF(ROUND(VALUE(SUBSTITUTE(#REF!,"▲", "-")), 2) < 0, ABS(ROUND(VALUE(SUBSTITUTE(#REF!,"▲", "-")), 2)), NA()) -> #REF! | I35: =IF(ROUND(VALUE(SUBSTITUTE(#REF!,"▲", "-")), 2) >= 0, ABS(ROUND(VALUE(SUBSTITUTE(#REF!,"▲", "-")), 2)), NA()) -> #REF! | J35: =IF(ROUND(VALUE(SUBSTITUTE(#REF!,"▲", "-")), 2) < 0, ABS(ROUND(VALUE(SUBSTITUTE(#REF!,"▲", "-")), 2)), NA()) -> #REF! | K35: =IF(ROUND(VALUE(SUBSTITUTE(#REF!,"▲", "-")), 2) >= 0, ABS(ROUND(VALUE(SUBSTITUTE(#REF!,"▲", "-")), 2)), NA()) -> #REF!
A36: =IF(#REF!="",NA(),#REF!) -> #REF! | B36: =IF(ROUND(VALUE(SUBSTITUTE(#REF!,"▲", "-")), 2) < 0, ABS(ROUND(VALUE(SUBSTITUTE(#REF!,"▲", "-")), 2)), NA()) -> #REF! | C36: =IF(ROUND(VALUE(SUBSTITUTE(#REF!,"▲", "-")), 2) >= 0, ABS(ROUND(VALUE(SUBSTITUTE(#REF!,"▲", "-")), 2)), NA()) -> #REF! | D36: =IF(ROUND(VALUE(SUBSTITUTE(#REF!,"▲", "-")), 2) < 0, ABS(ROUND(VALUE(SUBSTITUTE(#REF!,"▲", "-")), 2)), NA()) -> #REF! | E36: =IF(ROUND(VALUE(SUBSTITUTE(#REF!,"▲", "-")), 2) >= 0, ABS(ROUND(VALUE(SUBSTITUTE(#REF!,"▲", "-")), 2)), NA()) -> #REF! | F36: =IF(ROUND(VALUE(SUBSTITUTE(#REF!,"▲", "-")), 2) < 0, ABS(ROUND(VALUE(SUBSTITUTE(#REF!,"▲", "-")), 2)), NA()) -> #REF! | G36: =IF(ROUND(VALUE(SUBSTITUTE(#REF!,"▲", "-")), 2) >= 0, ABS(ROUND(VALUE(SUBSTITUTE(#REF!,"▲", "-")), 2)), NA()) -> #REF! | H36: =IF(ROUND(VALUE(SUBSTITUTE(#REF!,"▲", "-")), 2) < 0, ABS(ROUND(VALUE(SUBSTITUTE(#REF!,"▲", "-")), 2)), NA()) -> #REF! | I36: =IF(ROUND(VALUE(SUBSTITUTE(#REF!,"▲", "-")), 2) >= 0, ABS(ROUND(VALUE(SUBSTITUTE(#REF!,"▲", "-")), 2)), NA()) -> #REF! | J36: =IF(ROUND(VALUE(SUBSTITUTE(#REF!,"▲", "-")), 2) < 0, ABS(ROUND(VALUE(SUBSTITUTE(#REF!,"▲", "-")), 2)), NA()) -> #REF! | K36: =IF(ROUND(VALUE(SUBSTITUTE(#REF!,"▲", "-")), 2) >= 0, ABS(ROUND(VALUE(SUBSTITUTE(#REF!,"▲", "-")), 2)), NA()) -> #REF!
A39: 実質公債費比率（分子）の構造
B40: =#REF! -> #REF! | E40: =#REF! -> #REF! | H40: =#REF! -> #REF! | K40: =#REF! -> #REF! | N40: =#REF! -> #REF!
B41: 元利償還金等 | D41: 算入公債費等 | E41: 元利償還金等 | G41: 算入公債費等 | H41: 元利償還金等 | J41: 算入公債費等 | K41: 元利償還金等 | M41: 算入公債費等 | N41: 元利償還金等 | P41: 算入公債費等
A42: 算入公債費等 | D42: =#REF! -> #REF! | G42: =#REF! -> #REF! | J42: =#REF! -> #REF! | M42: =#REF! -> #REF! | P42: =#REF! -> #REF!
A43: 一時借入金の利子 | B43: =#REF! -> #REF! | E43: =#REF! -> #REF! | H43: =#REF! -> #REF! | K43: =#REF! -> #REF! | N43: =#REF! -> #REF!
A44: 債務負担行為に基づく支出額 | B44: =#REF! -> #REF! | E44: =#REF! -> #REF! | H44: =#REF! -> #REF! | K44: =#REF! -> #REF! | N44: =#REF! -> #REF!
A45: 組合等が起こした地方債の元利償還金に対する負担金等 | B45: =#REF! -> #REF! | E45: =#REF! -> #REF! | H45: =#REF! -> #REF! | K45: =#REF! -> #REF! | N45: =#REF! -> #REF!
A46: 公営企業債の元利償還金に対する繰入金 | B46: =#REF! -> #REF! | E46: =#REF! -> #REF! | H46: =#REF! -> #REF! | K46: =#REF! -> #REF! | N46: =#REF! -> #REF!
A47: 満期一括償還地方債に係る年度割相当額 | B47: =#REF! -> #REF! | E47: =#REF! -> #REF! | H47: =#REF! -> #REF! | K47: =#REF! -> #REF! | N47: =#REF! -> #REF!
...
